Workbook

Sheet 26-27
B1: Date de | C1: 46113 | D1: Date au | E1: 46477
B2: Unité de | C2: 010 | D2: Unité à | E2: 900
B3: Compte de | C3: 5710 | D3: Compte à | E3: 5710
B6: DATE_COMPTABLE | C6: NO_COMPTE | D6: DESCRIPTION_COMPTE | E6: NOM_FOURNISSEUR | F6: REFERENCE | G6: NO_DOCUMENT | H6: MONTANT_NET
A7: 1 | B7: 46218 | C7: 5710-010 | D7: Honoraires prof. avocats - PRÉ | E7: Sarrazin Plourde s.a | F7: Dossier 0224-0011 26-04@26-05 | G7: 10171 | H7: 1117.5 | I7: ✔
A8: 2 | B8: 46218 | C8: 5710-010 | D8: Honoraires prof. avocats - PRÉ | E8: Sarrazin Plourde s.a | F8: Dossier 0224-0012 26-04@26-05 | G8: 10183 | H8: 877.5 | I8: ✔
A9: 3 | B9: 46173 | C9: 5710-030 | D9: Honoraires prof. avocats - SEC | E9: Dominique F. Bourcheix | F9: P-110-3710 26-05-01 @ 26-05-22 | G9: 7772 | H9: 1575 | I9: ✔
A10: 4 | B10: 46173 | C10: 5710-030 | D10: Honoraires prof. avocats - SEC | E10: Julie Duranceau, avocate et médiatrice | F10: P-110-3699 26-02-26 @ 26-05-29 | G10: F26-41 | H10: 2543.75 | I10: ✔
A11: 5 | B11: 46173 | C11: 5710-030 | D11: Honoraires prof. avocats - SEC | E11: Julie Duranceau, avocate et médiatrice | F11: P-110-3711 26-05-05 @ 26-05-28 | G11: F26-42 | H11: 1628 | I11: ✔
A12: 6 | B12: 46173 | C12: 5710-030 | D12: Honoraires prof. avocats - SEC | E12: Julie Duranceau, avocate et médiatrice | F12: P-110-3683 26-04-20 @ 26-05-22 | G12: F26-43 | H12: 1046.25 | I12: ✔
A13: 7 | B13: 46195 | C13: 5710-030 | D13: Honoraires prof. avocats - SEC | E13: Julie Duranceau, avocate et médiatrice | F13: P-110-3686 26-05-08 @ 26-06-03 | G13: F26-45 | H13: 771.25 | I13: ✔
A14: 8 | B14: 46203 | C14: 5710-030 | D14: Honoraires prof. avocats - SEC | E14: Julie Duranceau, avocate et médiatrice | F14: P-120-63 26-05-28 @ 26-06-16 | G14: F26-47 | H14: 2406.25 | I14: ✔
A15: 9 | B15: 46218 | C15: 5710-030 | D15: Honoraires prof. avocats - SEC | E15: Julie Duranceau, avocate et médiatrice | F15: P-110-3715 26-06-12 @ 26-07-08 | G15: F26-49 | H15: 1718.75 | I15: ✔
A16: 10 | B16: 46232 | C16: 5710-030 | D16: Honoraires prof. avocats - SEC | E16: Julie Duranceau, avocate et médiatrice | F16: P-110-3683 26-06-05 @ 26-06-26 | G16: F26-51 | H16: 324.5 | I16: ✔
A17: 11 | B17: 46142 | C17: 5710-030 | D17: Honoraires prof. avocats - SEC | E17: Me Marc Turgeon, avocat médiateur | F17: P-110-3704 26-04-01 @ 26-04-20 | G17: 2026-02 | H17: 2750 | I17: ✔
B18: 46142 | C18: 5710-030 | D18: Honoraires prof. avocats - SEC | E18: Me Marc Turgeon, avocat médiateur | F18: P-110-3712 26-04-02 @ 26-04-30 | G18: 2026-02 | H18: 1054.17 | I18: ❖
A19: 12 | B19: 46173 | C19: 5710-030 | D19: Honoraires prof. avocats - SEC | E19: Me Marc Turgeon, avocat médiateur | F19: P-110-3714 26-05-14 @ 26-05-25 | G19: 2026-03 | H19: 206.25 | I19: ✔
B20: 46173 | C20: 5710-030 | D20: Honoraires prof. avocats - SEC | E20: Me Marc Turgeon, avocat médiateur | F20: P-220-07 26-04-14 @ 26-05-25 | G20: 2026-03 | H20: 915.75 | I20: ❖
A21: 13 | B21: 46234 | C21: 5710-030 | D21: Honoraires prof. avocats - SEC | E21: Me Marc Turgeon, avocat médiateur | F21: P-110-3714 26-06-03 @ 26-06-15 | G21: 2026-04 | H21: 1306.25 | I21: ✔
B22: 46234 | C22: 5710-030 | D22: Honoraires prof. avocats - SEC | E22: Me Marc Turgeon, avocat médiateur | F22: P-220-07 26-06-01 @ 26-07-03 | G22: 2026-04 | H22: 1353 | I22: ❖
A23: 14 | B23: 46136 | C23: 5710-030 | D23: Honoraires prof. avocats - SEC | E23: Services-Conseils juridiques Mon Avok s.a. | F23: P-110-3692 25-11-27 @ 25-12-09 | G23: 26-04-01 | H23: 1787.5 | I23: ✔
B24: 46136 | C24: 5710-030 | D24: Honoraires prof. avocats - SEC | E24: Services-Conseils juridiques Mon Avok s.a. | F24: P-110-3696 26-01-16 @ 26-02-05 | G24: 26-04-01 | H24: 2359.24 | I24: ❖
B25: 46136 | C25: 5710-030 | D25: Honoraires prof. avocats - SEC | E25: Services-Conseils juridiques Mon Avok s.a. | F25: P-110-3703 26-03-27 @ 26-04-01 | G25: 26-04-01 | H25: 1602.99 | I25: ❖
A26: 15 | B26: 46173 | C26: 5710-030 | D26: Honoraires prof. avocats - SEC | E26: Services-Conseils juridiques Mon Avok s.a. | F26: P-110-3703 26-04-22 @ 26-05-19 | G26: 26-05-31 | H26: 1512.5 | I26: ✔
B27: 46173 | C27: 5710-030 | D27: Honoraires prof. avocats - SEC | E27: Services-Conseils juridiques Mon Avok s.a. | F27: P-110-3698 26-04-24 @ 26-05-19 | G27: 26-05-31 | H27: 1581.25 | I27: ❖
B28: 46173 | C28: 5710-030 | D28: Honoraires prof. avocats - SEC | E28: Services-Conseils juridiques Mon Avok s.a. | F28: P-110-3713 26-05-25 @ 26-05-28 | G28: 26-05-31 | H28: 481.25 | I28: ❖
A29: 16 | B29: 46224 | C29: 5710-050 | D29: Honoraires prof. avocats - DSJ | E29: Cain Lamarre SENCRL | F29: Marque Régie essence Québec | G29: 356586 | H29: 180.06 | I29: ✔
A30: 17 | B30: 46173 | C30: 5710-050 | D30: Honoraires prof. avocats - DSJ | E30: IMK s.e.n.c.r.l. / LLP | F30: Dossier 5920-5 - 2026-04 | G30: 55248 | H30: 4110 | I30: ✔
A31: 18 | B31: 46173 | C31: 5710-050 | D31: Honoraires prof. avocats - DSJ | E31: IMK s.e.n.c.r.l. / LLP | F31: Dossier 5920-6 - 2026-04 | G31: 55249 | H31: 120 | I31: ✔
A32: 19 | B32: 46234 | C32: 5710-050 | D32: Honoraires prof. avocats - DSJ | E32: IMK s.e.n.c.r.l. / LLP | F32: Dossier 5920-5 - 2026-05 | G32: 55476 | H32: 4477.5 | I32: ✔
A33: 20 | B33: 46142 | C33: 5710-050 | D33: Honoraires prof. avocats - DSJ | E33: Jeansonne Avocats inc. | F33: Vantage c. Régie 2026-04 | G33: 11328 | H33: 2954.94 | I33: ✔
A34: 21 | B34: 46234 | C34: 5710-050 | D34: Honoraires prof. avocats - DSJ | E34: Jeansonne Avocats inc. | F34: Vantage c. Régie 2026-06 | G34: 11493 | H34: 13297.01 | I34: ✔
A35: 22 | B35: 46195 | C35: 5710-117 | D35: Honoraires prof. avocats - SAP | E35: André G. Lavoie Arbitre Inc. | F35: Dossier grief # 2025-01 | G35: 2910 | H35: 262.5 | I35: ✔
A36: 23 | B36: 46173 | C36: 5710-117 | D36: Honoraires prof. avocats - SAP | E36: Monette Barakett Avocats S.E.N.C. | F36: #93536 du 26-05-25 au 26-05-26 | G36: 155310 | H36: 236.25 | I36: ✔
A37: 24 | B37: 46173 | C37: 5710-117 | D37: Honoraires prof. avocats - SAP | E37: Monette Barakett Avocats S.E.N.C. | F37: #93902 du 26-03-30 au 26-05-28 | G37: 155311 | H37: 12474.12 | I37: ✔
A38: 25 | B38: 46234 | C38: 5710-117 | D38: Honoraires prof. avocats - SAP | E38: Monette Barakett Avocats S.E.N.C. | F38: #91954 du 26-03-23 au 26-03-23 | G38: 155944 | H38: 78.75 | I38: ✔
A39: 26 | B39: 46234 | C39: 5710-117 | D39: Honoraires prof. avocats - SAP | E39: Monette Barakett Avocats S.E.N.C. | F39: #93902 du 26-05-28 au 26-06-16 | G39: 155945 | H39: 1181.25 | I39: ✔
H40: =SUM(H7:H39) -> 70291.28
B42: Écritures de GL (courus, renversement, etc..)
B43: 46113 | C43: 5710-030 | D43: Honoraires prof. avocats - SEC | F43: P-110-3692 25-11-27 @ 25-12-09 | H43: -1787.5
B44: 46113 | C44: 5710-030 | D44: Honoraires prof. avocats - SEC | F44: P-110-3696 26-01-16 @ 26-02-05 | H44: -2359.24
B45: 46113 | C45: 5710-030 | D45: Honoraires prof. avocats - SEC | F45: P-110-3703 26-03-27 @ 26-03-30 | H45: -1190.49

Sheet 25-26
B1: Date de | C1: 45748 | D1: Date au | E1: 46112
B2: Unité de | C2: 010 | D2: Unité à | E2: 900
B3: Compte de | C3: 5710 | D3: Compte à | E3: 5710
B6: DATE_COMPTABLE | C6: NO_COMPTE | D6: DESCRIPTION_COMPTE | E6: NOM_FOURNISSEUR | F6: REFERENCE | G6: NO_DOCUMENT | H6: MONTANT_NET
A7: 1 | B7: 45777 | C7: 5710-010 | D7: Honoraires prof. avocats - PRÉ | E7: Sarrazin Plourde s.a | F7: Opinion sur la confidentialité | G7: 08919 | H7: 2569.5 | I7: ✔
A8: 2 | B8: 45777 | C8: 5710-010 | D8: Honoraires prof. avocats - PRÉ | E8: Sarrazin Plourde s.a | F8: Opinion sur la confidentialité | G8: 08920 | H8: 8000 | I8: ✔
A9: 3 | B9: 45808 | C9: 5710-010 | D9: Honoraires prof. avocats - PRÉ | E9: Sarrazin Plourde s.a | F9: Dossier 0224-0011 - 2025-04 | G9: 08950 | H9: 679 | I9: ✔
A10: 4 | B10: 45835 | C10: 5710-010 | D10: Honoraires prof. avocats - PRÉ | E10: Sarrazin Plourde s.a | F10: Dossier 0224-0011 - 2025-05 | G10: 09025 | H10: 1928 | I10: ✔
A11: 5 | B11: 45835 | C11: 5710-010 | D11: Honoraires prof. avocats - PRÉ | E11: Sarrazin Plourde s.a | F11: Dossier 0224-0012 - 2025-05 | G11: 09026 | H11: 1746 | I11: ✔
A12: 6 | B12: 45869 | C12: 5710-010 | D12: Honoraires prof. avocats - PRÉ | E12: Sarrazin Plourde s.a | F12: Dossier 0224-0011 - 2025-06 | G12: 09116 | H12: 1951 | I12: ✔
A13: 7 | B13: 45869 | C13: 5710-010 | D13: Honoraires prof. avocats - PRÉ | E13: Sarrazin Plourde s.a | F13: Dossier 0224-0012 - 2025-06 | G13: 09117 | H13: 940 | I13: ✔
A14: 8 | B14: 45961 | C14: 5710-010 | D14: Honoraires prof. avocats - PRÉ | E14: Sarrazin Plourde s.a | F14: Dossier 0224-0011 25-07@25-09 | G14: 09381 | H14: 3078 | I14: ✔
A15: 9 | B15: 45961 | C15: 5710-010 | D15: Honoraires prof. avocats - PRÉ | E15: Sarrazin Plourde s.a | F15: Dossier 0224-0012 25-07@25-09 | G15: 09382 | H15: 1925 | I15: ✔
A16: 10 | B16: 45991 | C16: 5710-010 | D16: Honoraires prof. avocats - PRÉ | E16: Sarrazin Plourde s.a | F16: Dossier 0224-0011 - 2025-10 | G16: 09469 | H16: 1230.5 | I16: ✔
A17: 11 | B17: 45991 | C17: 5710-010 | D17: Honoraires prof. avocats - PRÉ | E17: Sarrazin Plourde s.a | F17: Dossier 0224-0012 - 2025-10 | G17: 09470 | H17: 834 | I17: ✔
A18: 12 | B18: 46077 | C18: 5710-010 | D18: Honoraires prof. avocats - PRÉ | E18: Sarrazin Plourde s.a | F18: Dossier 0224-0011 - 2025-12 | G18: 09667 | H18: 400 | I18: ✔
... A38: 32 | B38: 46022 | C38: 5710-030 | D38: Honoraires prof. avocats - SEC | E38: Me Marc Turgeon, avocat médiateur | F38: P-110-3673 25-09-11 @ 25-11-05 | G38: 2025-003 | H38: 1856.25 | I38: ✔
B39: 46022 | C39: 5710-030 | D39: Honoraires prof. avocats - SEC | E39: Me Marc Turgeon, avocat médiateur | F39: P-110-3688 25-10-02 @ 25-11-24 | G39: 2025-003 | H39: 1993.75 | I39: ❖
A40: 33 | B40: 46036 | C40: 5710-030 | D40: Honoraires prof. avocats - SEC | E40: Me Marc Turgeon, avocat médiateur | F40: P-110-3695 25-11-25 @ 25-12-08 | G40: 2025-004 | H40: 1443.75 | I40: ✔
A41: 34 | B41: 46112 | C41: 5710-030 | D41: Honoraires prof. avocats - SEC | E41: Me Marc Turgeon, avocat médiateur | F41: P-110-3673 26-02-11 @ 26-03-12 | G41: 2026-001 | H41: 550 | I41: ✔
B42: 46112 | C42: 5710-030 | D42: Honoraires prof. avocats - SEC | E42: Me Marc Turgeon, avocat médiateur | F42: P-110-3704 26-01-27 @ 26-03-30 | G42: 2026-001 | H42: 1993.75 | I42: ❖
A43: 35 | B43: 45833 | C43: 5710-030 | D43: Honoraires prof. avocats - SEC | E43: Services-Conseils juridiques Mon Avok s.a. | F43: 2025-04-01 au 2025-05-31 | G43: 25-05-31 | H43: 2956.25 | I43: ✔
A44: 36 | B44: 45985 | C44: 5710-030 | D44: Honoraires prof. avocats - SEC | E44: Services-Conseils juridiques Mon Avok s.a. | F44: 2025-06-01 au 2025-10-31 | G44: 25-10-31 | H44: 3561.25 | I44: ✔
A45: 37 | B45: 46112 | C45: 5710-050 | D45: Honoraires prof. avocats - DSJ | E45: Cain Lamarre SENCRL | F45: Marque Régie essence Québec | G45: 338159 | H45: 3951.36 | I45: ✔
A46: 38 | B46: 45854 | C46: 5710-050 | D46: Honoraires prof. avocats - DSJ | E46: IMK s.e.n.c.r.l. / LLP | F46: ROEÉ c. PGQ et HQ et Régie | G46: 52966 | H46: 931.35 | I46: ✔
A47: 39 | B47: 45854 | C47: 5710-050 | D47: Honoraires prof. avocats - DSJ | E47: IMK s.e.n.c.r.l. / LLP | F47: Dossier 5628-3 - 2025-04 & 05 | G47: 52986 | H47: 5804.55 | I47: ✔
A48: 40 | B48: 45929 | C48: 5710-050 | D48: Honoraires prof. avocats - DSJ | E48: IMK s.e.n.c.r.l. / LLP | F48: Dossier 5628-3 - 2025-06 & 07 | G48: 53329 | H48: 2181.75 | I48: ✔
A49: 41 | B49: 45991 | C49: 5710-050 | D49: Honoraires prof. avocats - DSJ | E49: IMK s.e.n.c.r.l. / LLP | F49: Dossier 5628-3 - 2025-08 & 09 | G49: 53807 | H49: 2449.5 | I49: ✔
A50: 42 | B50: 46112 | C50: 5710-050 | D50: Honoraires prof. avocats - DSJ | E50: IMK s.e.n.c.r.l. / LLP | F50: Dossier 5628-3 - 2026-01 & 03 | G50: 54860 | H50: 1290 | I50: ✔
A51: 43 | B51: 46112 | C51: 5710-050 | D51: Honoraires prof. avocats - DSJ | E51: IMK s.e.n.c.r.l. / LLP | F51: Dossier 5920-5 - 2026-01 & 03 | G51: 54861 | H51: 5603.35 | I51: ✔
A52: 44 | B52: 46112 | C52: 5710-050 | D52: Honoraires prof. avocats - DSJ | E52: IMK s.e.n.c.r.l. / LLP | F52: Dossier 5920-6 - 2026-02 & 03 | G52: 54862 | H52: 1068 | I52: ✔
A53: 45 | B53: 45777 | C53: 5710-050 | D53: Honoraires prof. avocats - DSJ | E53: Jeansonne Avocats inc. | F53: 9211-4057 Qc c. HQ 2025-04 | G53: 10319 | H53: 1137 | I53: ✔
A54: 46 | B54: 45808 | C54: 5710-050 | D54: Honoraires prof. avocats - DSJ | E54: Jeansonne Avocats inc. | F54: 9211-4057 Qc c. HQ 2025-05 | G54: 10416 | H54: 3567 | I54: ✔
... A87: 79 | B87: 45868 | C87: 5710-117 | D87: Honoraires prof. avocats - SAP | E87: Neutra Cabinet Inc. | F87: Analyse de recevabilité | G87: 1002023181 | H87: 140 | I87: ✔
H88: =SUM(H7:H87) -> 168554.98
B91: Écritures de GL (courus, renversement, etc..)
B92: 45748 | C92: 5710-010 | D92: Honoraires prof. avocats - PRÉ | F92: Opinion sur la confidentialité | H92: -10569.5
B93: 46112 | C93: 5710-030 | D93: Honoraires prof. avocats - SEC | F93: P-110-3692 25-11-27 @ 25-12-09 | H93: 1787.5
B94: 46112 | C94: 5710-030 | D94: Honoraires prof. avocats - SEC | F94: P-110-3696 26-01-16 @ 26-02-05 | H94: 2359.24
B95: 46112 | C95: 5710-030 | D95: Honoraires prof. avocats - SEC | F95: P-110-3703 26-03-27 @ 26-03-30 | H95: 1190.49
B96: 46112 | C96: 5710-050 | D96: Honoraires prof. avocats - DSJ | F96: Prov. fact. IMK L. Duquette | H96: 60000

Sheet 24-25
B1: Date de | C1: 45383 | D1: Date au | E1: 45747
B2: Unité de | C2: 010 | D2: Unité à | E2: 900
B3: Compte de | C3: 5710 | D3: Compte à | E3: 5710
B6: DATE_COMPTABLE | C6: NO_COMPTE | D6: DESCRIPTION_COMPTE | E6: NOM_FOURNISSEUR | F6: REFERENCE | G6: NO_DOCUMENT | H6: MONTANT_NET
A7: 1 | B7: 45552 | C7: 5710-010 | D7: Honoraires prof. avocats - PRÉ | E7: Sarrazin Plourde s.a | F7: Dossier 0224-0009 - 2024-07 | G7: 08108 | H7: 4566 | I7: ✔
A8: 2 | B8: 45615 | C8: 5710-010 | D8: Honoraires prof. avocats - PRÉ | E8: Sarrazin Plourde s.a | F8: Dossier 0224-0009 - 2024-09 | G8: 08378 | H8: 1851 | I8: ✔
A9: 3 | B9: 45657 | C9: 5710-010 | D9: Honoraires prof. avocats - PRÉ | E9: Sarrazin Plourde s.a | F9: Dossier 0224-0011 - 2024-11 | G9: 08484 | H9: 6272 | I9: ✔
A10: 4 | B10: 45657 | C10: 5710-010 | D10: Honoraires prof. avocats - PRÉ | E10: Sarrazin Plourde s.a | F10: Dossier 0224-0012 - 2024-11 | G10: 08485 | H10: 5272.5 | I10: ✔
A11: 5 | B11: 45699 | C11: 5710-010 | D11: Honoraires prof. avocats - PRÉ | E11: Sarrazin Plourde s.a | F11: Opinion sur la confidentialité | G11: 08618 | H11: 14963.5 | I11: ✔
A12: 6 | B12: 45727 | C12: 5710-010 | D12: Honoraires prof. avocats - PRÉ | E12: Sarrazin Plourde s.a | F12: Dossier 0224-0012 - 2025-01 | G12: 08666 | H12: 958 | I12: ✔
A13: 7 | B13: 45727 | C13: 5710-010 | D13: Honoraires prof. avocats - PRÉ | E13: Sarrazin Plourde s.a | F13: Opinion sur la confidentialité | G13: 08667 | H13: 2467 | I13: ✔
A14: 8 | B14: 45747 | C14: 5710-010 | D14: Honoraires prof. avocats - PRÉ | E14: Sarrazin Plourde s.a | F14: Dossier 0224-0011 - 2025-02 | G14: 08807 | H14: 2302.5 | I14: ✔
A15: 9 | B15: 45747 | C15: 5710-010 | D15: Honoraires prof. avocats - PRÉ | E15: Sarrazin Plourde s.a | F15: Dossier 0224-0012 - 2025-02 | G15: 08808 | H15: 1407.5 | I15: ✔
A16: 10 | B16: 45747 | C16: 5710-010 | D16: Honoraires prof. avocats - PRÉ | E16: Sarrazin Plourde s.a | F16: Dossier 0224-0011 - 2025-03 | G16: 08903 | H16: 852 | I16: ✔
A17: 11 | B17: 45747 | C17: 5710-010 | D17: Honoraires prof. avocats - PRÉ | E17: Sarrazin Plourde s.a | F17: Dossier 0224-0012 - 2025-03 | G17: 08904 | H17: 132 | I17: ✔
A18: 12 | B18: 45679 | C18: 5710-010 | D18: Honoraires prof. avocats - PRÉ | E18: Sarrazin Plourde s.a | F18: Opinion sur la confidentialité | G18: 08380COR | H18: 4609.5 | I18: ✔
... A37: 31 | B37: 45443 | C37: 5710-030 | D37: Honoraires prof. avocats - SEC | E37: Services-Conseils juridiques Mon Avok s.a. | F37: P-110-3569 12 avril 23 | G37: 23-05-31 | H37: 875 | I37: ✔
B38: 45443 | C38: 5710-030 | D38: Honoraires prof. avocats - SEC | E38: Services-Conseils juridiques Mon Avok s.a. | F38: P-110-3570 19 au 31 mai 23 | G38: 23-05-31 | H38: 1250 | I38: ❖
B39: 45443 | C39: 5710-030 | D39: Honoraires prof. avocats - SEC | E39: Services-Conseils juridiques Mon Avok s.a. | F39: P-110-3571 13 avr au 12 mai 23 | G39: 23-05-31 | H39: 3547.07 | I39: ❖
B40: 45443 | C40: 5710-030 | D40: Honoraires prof. avocats - SEC | E40: Services-Conseils juridiques Mon Avok s.a. | F40: P-110-3575 1 mai 23 | G40: 23-05-31 | H40: 875 | I40: ❖
B41: 45443 | C41: 5710-030 | D41: Honoraires prof. avocats - SEC | E41: Services-Conseils juridiques Mon Avok s.a. | F41: P-110-3582 1 mai 23 | G41: 23-05-31 | H41: 125 | I41: ❖
A42: 32 | B42: 45589 | C42: 5710-030 | D42: Honoraires prof. avocats - SEC | E42: Services-Conseils juridiques Mon Avok s.a. | F42: P-110-3523 15 mai au 31 jul 24 | G42: 2024-07-31 | H42: 312.5 | I42: ✔
B43: 45589 | C43: 5710-030 | D43: Honoraires prof. avocats - SEC | E43: Services-Conseils juridiques Mon Avok s.a. | F43: P-110-3595 25 avril 2024 | G43: 2024-07-31 | H43: 312.5 | I43: ❖
B44: 45589 | C44: 5710-030 | D44: Honoraires prof. avocats - SEC | E44: Services-Conseils juridiques Mon Avok s.a. | F44: P-110-3624 4 avr au 29 juil 24 | G44: 2024-07-31 | H44: 1709.24 | I44: ❖
B45: 45589 | C45: 5710-030 | D45: Honoraires prof. avocats - SEC | E45: Services-Conseils juridiques Mon Avok s.a. | F45: P-110-3625 4 avr au 29 juil 24 | G45: 2024-07-31 | H45: 1709.24 | I45: ❖
B46: 45589 | C46: 5710-030 | D46: Honoraires prof. avocats - SEC | E46: Services-Conseils juridiques Mon Avok s.a. | F46: P-110-3633 11 au 12 juin 2024 | G46: 2024-07-31 | H46: 959.24 | I46: ❖
B47: 45589 | C47: 5710-030 | D47: Honoraires prof. avocats - SEC | E47: Services-Conseils juridiques Mon Avok s.a. | F47: P-110-3636 26 jui au 31 jul 24 | G47: 2024-07-31 | H47: 1312.5 | I47: ❖
B48: 45589 | C48: 5710-030 | D48: Honoraires prof. avocats - SEC | E48: Services-Conseils juridiques Mon Avok s.a. | F48: P-110-3640 22 au 29 juil 2024 | G48: 2024-07-31 | H48: 937.5 | I48: ❖
B49: 45589 | C49: 5710-030 | D49: Honoraires prof. avocats - SEC | E49: Services-Conseils juridiques Mon Avok s.a. | F49: P-210-196 22 avr au 26 jul 24 | G49: 2024-07-31 | H49: 1312.5 | I49: ❖
A50: 33 | B50: 45685 | C50: 5710-030 | D50: Honoraires prof. avocats - SEC | E50: Services-Conseils juridiques Mon Avok s.a. | F50: P-110-3624-3625 13 aoû- 29 nov | G50: 24-12-31 | H50: 187.5 | I50: ✔
B51: 45685 | C51: 5710-030 | D51: Honoraires prof. avocats - SEC | E51: Services-Conseils juridiques Mon Avok s.a. | F51: P-110-3636 01 au 13 août 2024 | G51: 24-12-31 | H51: 125 | I51: ❖
B52: 45685 | C52: 5710-030 | D52: Honoraires prof. avocats - SEC | E52: Services-Conseils juridiques Mon Avok s.a. | F52: P-110-3638 08 oct au 9 dec 24 | G52: 24-12-31 | H52: 3437.5 | I52: ❖
B53: 45685 | C53: 5710-030 | D53: Honoraires prof. avocats - SEC | E53: Services-Conseils juridiques Mon Avok s.a. | F53: P-110-3640 13 août 2024 | G53: 24-12-31 | H53: 187.5 | I53: ❖
B54: 45685 | C54: 5710-030 | D54: Honoraires prof. avocats - SEC | E54: Services-Conseils juridiques Mon Avok s.a. | F54: P-110-3642 12 au 30 sept. 2024 | G54: 24-12-31 | H54: 1000 | I54: ❖
B55: 45685 | C55: 5710-030 | D55: Honoraires prof. avocats - SEC | E55: Services-Conseils juridiques Mon Avok s.a. | F55: P-110-3649 11 au 22 oct. 2024 | G55: 24-12-31 | H55: 562.5 | I55: ❖
B56: 45685 | C56: 5710-030 | D56: Honoraires prof. avocats - SEC | E56: Services-Conseils juridiques Mon Avok s.a. | F56: P-110-3655 10 au 16 déc. 2024 | G56: 24-12-31 | H56: 937.5 | I56: ❖
B57: 45685 | C57: 5710-030 | D57: Honoraires prof. avocats - SEC | E57: Services-Conseils juridiques Mon Avok s.a. | F57: P-110-3656 25 au 27 nov. 2024 | G57: 24-12-31 | H57: 1125 | I57: ❖
A58: 34 | B58: 45702 | C58: 5710-030 | D58: Honoraires prof. avocats - SEC | E58: Services-Conseils juridiques Mon Avok s.a. | F58: P-110-3624 et 3625, janv. 2025 | G58: 25-01-31 | H58: 62.5 | I58: ✔
B59: 45702 | C59: 5710-030 | D59: Honoraires prof. avocats - SEC | E59: Services-Conseils juridiques Mon Avok s.a. | F59: P-110-3638 - janv. 2025 | G59: 25-01-31 | H59: 437.5 | I59: ❖
B60: 45702 | C60: 5710-030 | D60: Honoraires prof. avocats - SEC | E60: Services-Conseils juridiques Mon Avok s.a. | F60: P-110-3653 - janv. 2025 | G60: 25-01-31 | H60: 125 | I60: ❖
B61: 45702 | C61: 5710-030 | D61: Honoraires prof. avocats - SEC | E61: Services-Conseils juridiques Mon Avok s.a. | F61: P-110-3655 - janv. 2025 | G61: 25-01-31 | H61: 750 | I61: ❖
B62: 45702 | C62: 5710-030 | D62: Honoraires prof. avocats - SEC | E62: Services-Conseils juridiques Mon Avok s.a. | F62: P-110-3657 - janv. 2025 | G62: 25-01-31 | H62: 500 | I62: ❖
B63: 45702 | C63: 5710-030 | D63: Honoraires prof. avocats - SEC | E63: Services-Conseils juridiques Mon Avok s.a. | F63: P-110-3659 - janv. 2025 | G63: 25-01-31 | H63: 875 | I63: ❖
A64: 35 | B64: 45735 | C64: 5710-030 | D64: Honoraires prof. avocats - SEC | E64: Services-Conseils juridiques Mon Avok s.a. | F64: P-110-3624 et 3625, fév. 2025 | G64: 25-02-28 | H64: 62.5 | I64: ✔
B65: 45735 | C65: 5710-030 | D65: Honoraires prof. avocats - SEC | E65: Services-Conseils juridiques Mon Avok s.a. | F65: P-110-3638 - fév. 2025 | G65: 25-02-28 | H65: 62.5 | I65: ❖
B66: 45735 | C66: 5710-030 | D66: Honoraires prof. avocats - SEC | E66: Services-Conseils juridiques Mon Avok s.a. | F66: P-110-3653 - fév. 2025 | G66: 25-02-28 | H66: 62.5 | I66: ❖
B67: 45735 | C67: 5710-030 | D67: Honoraires prof. avocats - SEC | E67: Services-Conseils juridiques Mon Avok s.a. | F67: P-110-3655 - fév. 2025 | G67: 25-02-28 | H67: 1250 | I67: ❖
B68: 45735 | C68: 5710-030 | D68: Honoraires prof. avocats - SEC | E68: Services-Conseils juridiques Mon Avok s.a. | F68: P-110-3657 - fév. 2025 | G68: 25-02-28 | H68: 250 | I68: ❖
B69: 45735 | C69: 5710-030 | D69: Honoraires prof. avocats - SEC | E69: Services-Conseils juridiques Mon Avok s.a. | F69: P-110-3659 - fév. 2025 | G69: 25-02-28 | H69: 312.5 | I69: ❖
A70: 36 | B70: 45747 | C70: 5710-030 | D70: Honoraires prof. avocats - SEC | E70: Services-Conseils juridiques Mon Avok s.a. | F70: P-110-3653 - mars 2025 | G70: 25-03-31 | H70: 437.5 | I70: ✔
B71: 45747 | C71: 5710-030 | D71: Honoraires prof. avocats - SEC | E71: Services-Conseils juridiques Mon Avok s.a. | F71: P-110-3655 - mars 2025 | G71: 25-03-31 | H71: 312.5 | I71: ❖
B72: 45747 | C72: 5710-030 | D72: Honoraires prof. avocats - SEC | E72: Services-Conseils juridiques Mon Avok s.a. | F72: P-110-3657 - mars 2025 | G72: 25-03-31 | H72: 250 | I72: ❖
A73: 37 | B73: 45443 | C73: 5710-030 | D73: Honoraires prof. avocats - SEC | E73: Services-Conseils juridiques Mon Avok s.a. | F73: P-110-3618 21 fév au 20 mar 24 | G73: 24-03-31-1 | H73: 1375 | I73: ✔
A74: 38 | B74: 45678 | C74: 5710-050 | D74: Honoraires prof. avocats - DSJ | E74: IMK s.e.n.c.r.l. / LLP | F74: HQ c. Régie (Flumen) 2024-11 | G74: 51754 | H74: 13871.9 | I74: ✔
A75: 39 | B75: 45747 | C75: 5710-050 | D75: Honoraires prof. avocats - DSJ | E75: IMK s.e.n.c.r.l. / LLP | F75: Dossier 5628-3 - 2025-02 & 03 | G75: 52306 | H75: 12666.45 | I75: ✔
A76: 40 | B76: 45412 | C76: 5710-050 | D76: Honoraires prof. avocats - DSJ | E76: Jeansonne Avocats inc. | F76: HQ c. Régie Biénergie 2024-04 | G76: 09240 | H76: 2726.5 | I76: ✔
A77: 41 | B77: 45443 | C77: 5710-050 | D77: Honoraires prof. avocats - DSJ | E77: Jeansonne Avocats inc. | F77: HQ c. Régie Biénergie 2024-05 | G77: 09414 | H77: 1500 | I77: ✔
A78: 42 | B78: 45443 | C78: 5710-050 | D78: Honoraires prof. avocats - DSJ | E78: Jeansonne Avocats inc. | F78: Villahosting c. Régie 2024-05 | G78: 09415 | H78: 300 | I78: ✔
A79: 43 | B79: 45482 | C79: 5710-050 | D79: Honoraires prof. avocats - DSJ | E79: Jeansonne Avocats inc. | F79: HQ c. Régie Biénergie 2024-06 | G79: 09500 | H79: 450 | I79: ✔
A80: 44 | B80: 45482 | C80: 5710-050 | D80: Honoraires prof. avocats - DSJ | E80: Jeansonne Avocats inc. | F80: Villahosting c. Régie 2024-06 | G80: 09501 | H80: 300 | I80: ✔
A81: 45 | B81: 45535 | C81: 5710-050 | D81: Honoraires prof. avocats - DSJ | E81: Jeansonne Avocats inc. | F81: Villahosting c. Régie 2024-08 | G81: 09655 | H81: 789.9 | I81: ✔
A82: 46 | B82: 45572 | C82: 5710-050 | D82: Honoraires prof. avocats - DSJ | E82: Jeansonne Avocats inc. | F82: HQ c. Régie Biénergie 2024-09 | G82: 09759 | H82: 2313.95 | I82: ✔
A83: 47 | B83: 45700 | C83: 5710-050 | D83: Honoraires prof. avocats - DSJ | E83: Jeansonne Avocats inc. | F83: 9211-4057 Qc c. HQ 2025-01 | G83: 10078 | H83: 1661.45 | I83: ✔
A84: 48 | B84: 45747 | C84: 5710-050 | D84: Honoraires prof. avocats - DSJ | E84: Jeansonne Avocats inc. | F84: 9211-4057 Qc c. HQ 2025-03 | G84: 10169 | H84: 1351.5 | I84: ✔
... A98: 62 | B98: 45554 | C98: 5710-125 | D98: Honoraires prof. avocats - SCBA | E98: Langlois Avocats S.E.N.C.R.L. | F98: Accomp AO refonte du SSCQ | G98: 744282 | H98: 1690 | I98: ✔
H99: =SUM(H7:H98) -> 173138.75
B101: Documents qui s'annulent
B102: 45657 | C102: 5710-010 | D102: Honoraires prof. avocats - PRÉ | E102: Sarrazin Plourde s.a | F102: Opinion sur la confidentialité | G102: 08524 | H102: 3361
B103: 45657 | C103: 5710-010 | D103: Honoraires prof. avocats - PRÉ | E103: Sarrazin Plourde s.a | F103: Opinion sur la confidentialité | G103: 08524COR | H103: -3361
B104: 45727 | C104: 5710-030 | D104: Honoraires prof. avocats - SEC | E104: Sarrazin Plourde s.a | F104: Dossier 0224-0011 - 2025-01 | G104: 08665 | H104: 1588
B105: 45741 | C105: 5710-030 | D105: Honoraires prof. avocats - SEC | E105: Sarrazin Plourde s.a | F105: Dossier 0224-0011 - 2025-01 | G105: 08665COR | H105: -1588
B107: Écritures de GL (courus, renversement, etc..)
B108: 45747 | C108: 5710-010 | D108: Honoraires prof. avocats - PRÉ | F108: Opinion sur la confidentialité | H108: 10569.5

Sheet 23-24
B1: Date de | C1: 45017 | D1: Date au | E1: 45382
B2: Unité de | C2: 010 | D2: Unité à | E2: 900
B3: Compte de | C3: 5710 | D3: Compte à | E3: 5710
B6: DATE_COMPTABLE | C6: NO_COMPTE | D6: DESCRIPTION_COMPTE | E6: NOM_FOURNISSEUR | F6: REFERENCE | G6: NO_DOCUMENT | H6: MONTANT_NET
A7: 1 | B7: 45077 | C7: 5710-010 | D7: Honoraires prof. avocats - PRÉ | E7: Monette Barakett Avocats S.E.N.C. | F7: #90616 du 23-05-01 au 23-05-31 | G7: 141735 | H7: 3726 | I7: ✔
A8: 2 | B8: 45166 | C8: 5710-010 | D8: Honoraires prof. avocats - PRÉ | E8: Monette Barakett Avocats S.E.N.C. | F8: #90616 du 23-06-01 au 23-06-30 | G8: 142091 | H8: 1009.13 | I8: ✔
A9: 3 | B9: 45169 | C9: 5710-010 | D9: Honoraires prof. avocats - PRÉ | E9: Monette Barakett Avocats S.E.N.C. | F9: #90616 du 23-07-01 au 23-07-31 | G9: 142259 | H9: 776.25 | I9: ✔
A10: 4 | B10: 45046 | C10: 5710-010 | D10: Honoraires prof. avocats - PRÉ | E10: Monette Barakett Avocats S.E.N.C. | F10: #90616 du 23-04-03 au 23-04-30 | G10: 141375COR | H10: 3881.25 | I10: ✔
A11: 5 | B11: 45046 | C11: 5710-010 | D11: Honoraires prof. avocats - PRÉ | E11: Sarrazin Plourde s.a | F11: Dossier 0224-0008 - 2023-04 | G11: 06798 | H11: 1920 | I11: ✔
A12: 6 | B12: 45077 | C12: 5710-010 | D12: Honoraires prof. avocats - PRÉ | E12: Sarrazin Plourde s.a | F12: Dossier 0224-0008 - 2023-05 | G12: 06894 | H12: 1543 | I12: ✔
A13: 7 | B13: 45194 | C13: 5710-030 | D13: Honoraires prof. avocats - SEC | E13: Dominique F. Bourcheix | F13: Hydro-Québec 2023-07 | G13: 7613 | H13: 7200 | I13: ✔
B14: 45194 | C14: 5710-030 | D14: Honoraires prof. avocats - SEC | E14: Dominique F. Bourcheix | F14: Hydro Joliette 2023-07 | G14: 7613 | H14: 675 | I14: ❖
A15: 8 | B15: 45225 | C15: 5710-030 | D15: Honoraires prof. avocats - SEC | E15: Dominique F. Bourcheix | F15: Hydro-Québec 2023-09 & 2023-10 | G15: 7621 | H15: 3450 | I15: ✔
A16: 9 | B16: 45382 | C16: 5710-030 | D16: Honoraires prof. avocats - SEC | E16: Dominique F. Bourcheix | F16: Hydro-Québec 2024-01 à 2024-03 | G16: 7653 | H16: 3450 | I16: ✔
A17: 10 | B17: 45107 | C17: 5710-030 | D17: Honoraires prof. avocats - SEC | E17: Julie Duranceau, avocate et médiatrice | F17: P-110-3580 04 mai au 12 jui 23 | G17: F23-17 | H17: 1062.5 | I17: ✔
A18: 11 | B18: 45162 | C18: 5710-030 | D18: Honoraires prof. avocats - SEC | E18: Julie Duranceau, avocate et médiatrice | F18: Formation par Me Bourcheix | G18: F23-22 | H18: 1000 | I18: ✔
A19: 12 | B19: 45163 | C19: 5710-030 | D19: Honoraires prof. avocats - SEC | E19: Julie Duranceau, avocate et médiatrice | F19: P-110-3574 23-03 @ 17-07 2023 | G19: F23-23 | H19: 2750 | I19: ✔
A20: 13 | B20: 45196 | C20: 5710-030 | D20: Honoraires prof. avocats - SEC | E20: Julie Duranceau, avocate et médiatrice | F20: P-110-3583 21 juin au 6 sept23 | G20: F23-25 | H20: 1437.5 | I20: ✔
A21: 14 | B21: 45196 | C21: 5710-030 | D21: Honoraires prof. avocats - SEC | E21: Julie Duranceau, avocate et médiatrice | F21: P-110-3594 10 au 18 sept. 23 | G21: F23-26 | H21: 1562.5 | I21: ✔
A22: 15 | B22: 45230 | C22: 5710-030 | D22: Honoraires prof. avocats - SEC | E22: Julie Duranceau, avocate et médiatrice | F22: P-110-3593 11 au 17 oct 23 | G22: F23-29 | H22: 699.83 | I22: ✔
A23: 16 | B23: 45230 | C23: 5710-030 | D23: Honoraires prof. avocats - SEC | E23: Julie Duranceau, avocate et médiatrice | F23: P-110-3604 18 sep au 20 oct 23 | G23: F23-30 | H23: 1969.83 | I23: ✔
A24: 17 | B24: 45279 | C24: 5710-030 | D24: Honoraires prof. avocats - SEC | E24: Julie Duranceau, avocate et médiatrice | F24: P-110-3609 25 oct au 30 nov 23 | G24: F23-32 | H24: 1125 | I24: ✔
A25: 18 | B25: 45314 | C25: 5710-030 | D25: Honoraires prof. avocats - SEC | E25: Julie Duranceau, avocate et médiatrice | F25: P-110-3590 23/08/10 @ 24/01/09 | G25: F24-01 | H25: 2000 | I25: ✔
A26: 19 | B26: 45364 | C26: 5710-030 | D26: Honoraires prof. avocats - SEC | E26: Julie Duranceau, avocate et médiatrice | F26: P-110-3614 22 nov au 27 fév 24 | G26: F24-08 | H26: 1187.5 | I26: ✔
... A28: 21 | B28: 45169 | C28: 5710-030 | D28: Honoraires prof. avocats - SEC | E28: Services-Conseils juridiques Mon Avok s.a. | F28: P-110-3569 5 juin au 9 août 23 | G28: 23-08-28 | H28: 1312.5 | I28: ✔
B29: 45169 | C29: 5710-030 | D29: Honoraires prof. avocats - SEC | E29: Services-Conseils juridiques Mon Avok s.a. | F29: P-110-3570 11 juin 23 | G29: 23-08-28 | H29: 62.5 | I29: ❖
B30: 45169 | C30: 5710-030 | D30: Honoraires prof. avocats - SEC | E30: Services-Conseils juridiques Mon Avok s.a. | F30: P-110-3582 26 juil. au 2 août | G30: 23-08-28 | H30: 1187.5 | I30: ❖
B31: 45169 | C31: 5710-030 | D31: Honoraires prof. avocats - SEC | E31: Services-Conseils juridiques Mon Avok s.a. | F31: P-110-3592 27 et 28 août 23 | G31: 23-08-28 | H31: 875 | I31: ❖
B32: 45169 | C32: 5710-030 | D32: Honoraires prof. avocats - SEC | E32: Services-Conseils juridiques Mon Avok s.a. | F32: Formation par Me Bourcheix | G32: 23-08-28 | H32: 1000 | I32: ❖
A33: 22 | B33: 45229 | C33: 5710-030 | D33: Honoraires prof. avocats - SEC | E33: Services-Conseils juridiques Mon Avok s.a. | F33: P-110-3582 25 au 29 sept. 23. | G33: 23-09-30 | H33: 1375 | I33: ✔
B34: 45229 | C34: 5710-030 | D34: Honoraires prof. avocats - SEC | E34: Services-Conseils juridiques Mon Avok s.a. | F34: P-110-3602 15 au 25 sept. 23 | G34: 23-09-30 | H34: 875 | I34: ❖
A35: 23 | B35: 45230 | C35: 5710-030 | D35: Honoraires prof. avocats - SEC | E35: Services-Conseils juridiques Mon Avok s.a. | F35: P-110-3523 10 au 31 oct. 23 | G35: 23-10-31 | H35: 437.5 | I35: ✔
B36: 45230 | C36: 5710-030 | D36: Honoraires prof. avocats - SEC | E36: Services-Conseils juridiques Mon Avok s.a. | F36: P-110-3582 10 au 23 oct. 23 | G36: 23-10-31 | H36: 250 | I36: ❖
B37: 45230 | C37: 5710-030 | D37: Honoraires prof. avocats - SEC | E37: Services-Conseils juridiques Mon Avok s.a. | F37: P-110-3596 10 au 31 oct. 23 | G37: 23-10-31 | H37: 1521.74 | I37: ❖
B38: 45230 | C38: 5710-030 | D38: Honoraires prof. avocats - SEC | E38: Services-Conseils juridiques Mon Avok s.a. | F38: P-110-3601 23 oct. 23 | G38: 23-10-31 | H38: 187.5 | I38: ❖
B39: 45230 | C39: 5710-030 | D39: Honoraires prof. avocats - SEC | E39: Services-Conseils juridiques Mon Avok s.a. | F39: P-110-3602 3 au 13 oct. 23 | G39: 23-10-31 | H39: 1250 | I39: ❖
A40: 24 | B40: 45314 | C40: 5710-030 | D40: Honoraires prof. avocats - SEC | E40: Services-Conseils juridiques Mon Avok s.a. | F40: P-110-3523 07 au 27 nov. 23 | G40: 23-11-30 | H40: 896.74 | I40: ✔
B41: 45314 | C41: 5710-030 | D41: Honoraires prof. avocats - SEC | E41: Services-Conseils juridiques Mon Avok s.a. | F41: P-110-3596 01 au 02 nov. 23 | G41: 23-11-30 | H41: 812.5 | I41: ❖
A42: 25 | B42: 45314 | C42: 5710-030 | D42: Honoraires prof. avocats - SEC | E42: Services-Conseils juridiques Mon Avok s.a. | F42: P-110-3523 05 au 13 déc. 23 | G42: 23-12-31 | H42: 1000 | I42: ✔
B43: 45314 | C43: 5710-030 | D43: Honoraires prof. avocats - SEC | E43: Services-Conseils juridiques Mon Avok s.a. | F43: P-210-193 12 au 14 déc. 23 | G43: 23-12-31 | H43: 1146.73 | I43: ❖
A44: 26 | B44: 45382 | C44: 5710-030 | D44: Honoraires prof. avocats - SEC | E44: Services-Conseils juridiques Mon Avok s.a. | F44: P-110-3523 15 janv. au 31 mars | G44: 24-03-31 | H44: 562.5 | I44: ✔
B45: 45382 | C45: 5710-030 | D45: Honoraires prof. avocats - SEC | E45: Services-Conseils juridiques Mon Avok s.a. | F45: P-110-3595 19 janv. au 14 mars | G45: 24-03-31 | H45: 3209.24 | I45: ❖
B46: 45382 | C46: 5710-030 | D46: Honoraires prof. avocats - SEC | E46: Services-Conseils juridiques Mon Avok s.a. | F46: P-110-3615 5 au 19 fév. 2024 | G46: 24-03-31 | H46: 959.24 | I46: ❖
B47: 45382 | C47: 5710-030 | D47: Honoraires prof. avocats - SEC | E47: Services-Conseils juridiques Mon Avok s.a. | F47: P-210-193 9 au 23 janv. 2024 | G47: 24-03-31 | H47: 437.5 | I47: ❖
B48: 45382 | C48: 5710-030 | D48: Honoraires prof. avocats - SEC | E48: Services-Conseils juridiques Mon Avok s.a. | F48: P-210-196 20 au 21 mars 2024 | G48: 24-03-31 | H48: 959.24 | I48: ❖
A49: 27 | B49: 45046 | C49: 5710-050 | D49: Honoraires prof. avocats - DSJ | E49: Jeansonne Avocats inc. | F49: HQ c. Régie Biénergie 2023-04 | G49: 08318 | H49: 1984.9 | I49: ✔
A50: 28 | B50: 45077 | C50: 5710-050 | D50: Honoraires prof. avocats - DSJ | E50: Jeansonne Avocats inc. | F50: HQ c. Régie Biénergie 2023-05 | G50: 08394 | H50: 6004.5 | I50: ✔
A51: 29 | B51: 45124 | C51: 5710-050 | D51: Honoraires prof. avocats - DSJ | E51: Jeansonne Avocats inc. | F51: HQ c. Régie Biénergie 2023-06 | G51: 08438 | H51: 7473.95 | I51: ✔
A52: 30 | B52: 45169 | C52: 5710-050 | D52: Honoraires prof. avocats - DSJ | E52: Jeansonne Avocats inc. | F52: HQ c. Régie Biénergie 2023-07 | G52: 08559 | H52: 8061 | I52: ✔
A53: 31 | B53: 45198 | C53: 5710-050 | D53: Honoraires prof. avocats - DSJ | E53: Jeansonne Avocats inc. | F53: HQ c. Régie Biénergie 2023-08 | G53: 08606 | H53: 769.6 | I53: ✔
A54: 32 | B54: 45230 | C54: 5710-050 | D54: Honoraires prof. avocats - DSJ | E54: Jeansonne Avocats inc. | F54: HQ c. Régie Biénergie 2023-10 | G54: 08751 | H54: 5554.5 | I54: ✔
A55: 33 | B55: 45291 | C55: 5710-050 | D55: Honoraires prof. avocats - DSJ | E55: Jeansonne Avocats inc. | F55: HQ c. Régie Biénergie 2023-11 | G55: 08836 | H55: 13117.05 | I55: ✔
A56: 34 | B56: 45308 | C56: 5710-050 | D56: Honoraires prof. avocats - DSJ | E56: Jeansonne Avocats inc. | F56: HQ c. Régie Biénergie 2023-12 | G56: 08943 | H56: 34474.18 | I56: ✔
A57: 35 | B57: 45322 | C57: 5710-050 | D57: Honoraires prof. avocats - DSJ | E57: Jeansonne Avocats inc. | F57: Villahosting c. Régie 2024-01 | G57: 08990 | H57: 2444.45 | I57: ✔
A58: 36 | B58: 45382 | C58: 5710-050 | D58: Honoraires prof. avocats - DSJ | E58: Jeansonne Avocats inc. | F58: Villahosting c. Régie 2024-03 | G58: 09217 | H58: 1758 | I58: ✔
A59: 37 | B59: 45382 | C59: 5710-050 | D59: Honoraires prof. avocats - DSJ | E59: Jeansonne Avocats inc. | F59: HQ c. Régie Biénergie 2024-03 | G59: 09218 | H59: 2341.5 | I59: ✔
A60: 38 | B60: 45163 | C60: 5710-050 | D60: Honoraires prof. avocats - DSJ | E60: Renno Vathilakis inc. | F60: Dossier HQ # 1479/2 - 2023-06 | G60: 3067 | H60: 15504.65 | I60: ✔
... A73: 51 | B73: 45382 | C73: 5710-117 | D73: Honoraires prof. avocats - SAP | E73: Monette Barakett Avocats S.E.N.C. | F73: #89754 du 24-01-09 au 24-02-05 | G73: 144910 | H73: 310.5 | I73: ✔
H74: =SUM(H7:H73) -> 227135.06
B78: Documents qui s'annulent
B79: 45046 | C79: 5710-117 | D79: Honoraires prof. avocats - SAP | E79: Monette Barakett Avocats S.E.N.C. | F79: #90616 du 23-04-03 au 23-04-30 | G79: 141375 | H79: 3881.25
B80: 45046 | C80: 5710-117 | D80: Honoraires prof. avocats - SAP | E80: Monette Barakett Avocats S.E.N.C. | F80: #90616 du 23-04-03 au 23-04-30 | G80: 141375COR | H80: -3881.25

Sheet 22-23
B1: Date de | C1: 44652 | D1: Date au | E1: 45016
B2: Unité de | C2: 010 | D2: Unité à | E2: 900
B3: Compte de | C3: 5710 | D3: Compte à | E3: 5710
B6: DATE_COMPTABLE | C6: NO_COMPTE | D6: DESCRIPTION_COMPTE | E6: NOM_FOURNISSEUR | F6: REFERENCE | G6: NO_DOCUMENT | H6: MONTANT_NET
A7: 1 | B7: 45016 | C7: 5710-010 | D7: Honoraires prof. avocats - PRÉ | E7: Sarrazin Plourde s.a | F7: Dossier 0224-0008 - 2023-02 | G7: 06633 | H7: 3774 | I7: ✔
A8: 2 | B8: 44681 | C8: 5710-030 | D8: Honoraires prof. avocats - SEC | E8: Dominique F. Bourcheix | F8: du 1er février au 31 mars 2022 | G8: 7512 | H8: 3750 | I8: ✔
B9: 44681 | C9: 5710-030 | D9: Honoraires prof. avocats - SEC | E9: Dominique F. Bourcheix | F9: du 1er février au 31 mars 2022 | G9: 7512 | H9: 300 | I9: ❖
A10: 3 | B10: 44764 | C10: 5710-030 | D10: Honoraires prof. avocats - SEC | E10: Dominique F. Bourcheix | F10: Hydro-Québec 2022-05 | G10: 7538 | H10: 6619 | I10: ✔
B11: 44764 | C11: 5710-030 | D11: Honoraires prof. avocats - SEC | E11: Dominique F. Bourcheix | F11: Hydro Jonquière 2022-05 | G11: 7538 | H11: 1467.05 | I11: ❖
A12: 4 | B12: 44764 | C12: 5710-030 | D12: Honoraires prof. avocats - SEC | E12: Dominique F. Bourcheix | F12: Hydro-Québec 2022-06 | G12: 7539 | H12: 2325 | I12: ✔
B13: 44764 | C13: 5710-030 | D13: Honoraires prof. avocats - SEC | E13: Dominique F. Bourcheix | F13: Hydro Jonquière 2022-06 | G13: 7539 | H13: 225 | I13: ❖
A14: 5 | B14: 44881 | C14: 5710-030 | D14: Honoraires prof. avocats - SEC | E14: Dominique F. Bourcheix | F14: Hydro-Québec 2022-10 | G14: 7559 | H14: 4350 | I14: ✔
B15: 44881 | C15: 5710-030 | D15: Honoraires prof. avocats - SEC | E15: Dominique F. Bourcheix | F15: Hydro Joliette 2022-10 | G15: 7559 | H15: 825 | I15: ❖
A16: 6 | B16: 44985 | C16: 5710-030 | D16: Honoraires prof. avocats - SEC | E16: Dominique F. Bourcheix | F16: Hydro-Québec 2023-02 | G16: 7580 | H16: 1593 | I16: ✔
A17: 7 | B17: 44712 | C17: 5710-030 | D17: Honoraires prof. avocats - SEC | E17: Julie Duranceau, avocate et médiatrice | F17: P-110-3493 06 mai au 16 mai 22 | G17: F22-21 | H17: 1312.5 | I17: ✔
A18: 8 | B18: 44729 | C18: 5710-030 | D18: Honoraires prof. avocats - SEC | E18: Julie Duranceau, avocate et médiatrice | F18: P-110-3537 03 mai au 07 jui 22 | G18: F22-27 | H18: 1250 | I18: ✔
A19: 9 | B19: 44729 | C19: 5710-030 | D19: Honoraires prof. avocats - SEC | E19: Julie Duranceau, avocate et médiatrice | F19: P-110-3534 12 mai au 08 jui 22 | G19: F22-28 | H19: 1250 | I19: ✔
A20: 10 | B20: 44756 | C20: 5710-030 | D20: Honoraires prof. avocats - SEC | E20: Julie Duranceau, avocate et médiatrice | F20: P-110-3535 03 mai au 12 jui 22 | G20: F22-31 | H20: 1510.87 | I20: ✔
A21: 11 | B21: 44818 | C21: 5710-030 | D21: Honoraires prof. avocats - SEC | E21: Julie Duranceau, avocate et médiatrice | F21: P-110-3544 30 mai au 21juil 22 | G21: F22-33 | H21: 250 | I21: ✔
A22: 12 | B22: 44818 | C22: 5710-030 | D22: Honoraires prof. avocats - SEC | E22: Julie Duranceau, avocate et médiatrice | F22: P-110-3543 29 jui au 12 sep 22 | G22: F22-37 | H22: 1643 | I22: ✔
A23: 13 | B23: 44881 | C23: 5710-030 | D23: Honoraires prof. avocats - SEC | E23: Julie Duranceau, avocate et médiatrice | F23: P-110-3548 04 oct au 07 nov | G23: F22-44 | H23: 1393 | I23: ✔
A24: 14 | B24: 45014 | C24: 5710-030 | D24: Honoraires prof. avocats - SEC | E24: Julie Duranceau, avocate et médiatrice | F24: P-110-3554 29 nov au 07 mar 23 | G24: F23-06 | H24: 1187.5 | I24: ✔
A25: 15 | B25: 45016 | C25: 5710-030 | D25: Honoraires prof. avocats - SEC | E25: Julie Duranceau, avocate et médiatrice | F25: P-110-3563 10 jan au 29 mar 23 | G25: F23-09 | H25: 2000 | I25: ✔
A26: 16 | B26: 45016 | C26: 5710-030 | D26: Honoraires prof. avocats - SEC | E26: Julie Duranceau, avocate et médiatrice | F26: P-110-3573 27 fév au 20 mar 23 | G26: F23-10 | H26: 1250 | I26: ✔
A27: 17 | B27: 44824 | C27: 5710-030 | D27: Honoraires prof. avocats - SEC | E27: Services-Conseils juridiques Mon Avok s.a. | F27: du 01 avril au 31 août 2022 | G27: 22-08-31 | H27: 8703.16 | I27: ✔
A28: 18 | B28: 44926 | C28: 5710-030 | D28: Honoraires prof. avocats - SEC | E28: Services-Conseils juridiques Mon Avok s.a. | F28: P-110-3511 19 au 26 sept 22 | G28: 22-12-23 | H28: 312.49 | I28: ✔
B29: 44926 | C29: 5710-030 | D29: Honoraires prof. avocats - SEC | E29: Services-Conseils juridiques Mon Avok s.a. | F29: P-110-3522 07 sep au 10 oct 22 | G29: 22-12-23 | H29: 437.5 | I29: ❖
B30: 44926 | C30: 5710-030 | D30: Honoraires prof. avocats - SEC | E30: Services-Conseils juridiques Mon Avok s.a. | F30: P-110-3550 26 sep au 28 oct 22 | G30: 22-12-23 | H30: 1437.5 | I30: ❖
B31: 44926 | C31: 5710-030 | D31: Honoraires prof. avocats - SEC | E31: Services-Conseils juridiques Mon Avok s.a. | F31: P-110-3556 03 au 21 déc 22 | G31: 22-12-23 | H31: 1375 | I31: ❖
A32: 19 | B32: 45016 | C32: 5710-030 | D32: Honoraires prof. avocats - SEC | E32: Services-Conseils juridiques Mon Avok s.a. | F32: P-110-3556 23 dec au 24 mar 23 | G32: 23-03-24 | H32: 1250 | I32: ✔
A33: 20 | B33: 44681 | C33: 5710-050 | D33: Honoraires prof. avocats - DSJ | E33: Jeansonne Avocats inc. | F33: CETAC c. Régie 2022-04 | G33: 07346 | H33: 1980 | I33: ✔
A34: 21 | B34: 44712 | C34: 5710-050 | D34: Honoraires prof. avocats - DSJ | E34: Jeansonne Avocats inc. | F34: CETAC c. Régie 2022-05 | G34: 07365 | H34: 5458.6 | I34: ✔
A35: 22 | B35: 44773 | C35: 5710-050 | D35: Honoraires prof. avocats - DSJ | E35: Jeansonne Avocats inc. | F35: CETAC c. Régie 2022-06 | G35: 07465 | H35: 1895.95 | I35: ✔
A36: 23 | B36: 44804 | C36: 5710-050 | D36: Honoraires prof. avocats - DSJ | E36: Jeansonne Avocats inc. | F36: CETAC c. Régie 2022-07 | G36: 07588 | H36: 1185 | I36: ✔
A37: 24 | B37: 44818 | C37: 5710-050 | D37: Honoraires prof. avocats - DSJ | E37: Jeansonne Avocats inc. | F37: CETAC c. Régie 2022-08 | G37: 07672 | H37: 1200 | I37: ✔
A38: 25 | B38: 44862 | C38: 5710-050 | D38: Honoraires prof. avocats - DSJ | E38: Jeansonne Avocats inc. | F38: CETAC c. Régie 2022-09 | G38: 07756 | H38: 1110 | I38: ✔
A39: 26 | B39: 44895 | C39: 5710-050 | D39: Honoraires prof. avocats - DSJ | E39: Jeansonne Avocats inc. | F39: CETAC c. Régie 2022-11 | G39: 07865 | H39: 19471.95 | I39: ✔
A40: 27 | B40: 44985 | C40: 5710-050 | D40: Honoraires prof. avocats - DSJ | E40: Jeansonne Avocats inc. | F40: CETAC c. Régie 2023-01 | G40: 08069 | H40: 373.62 | I40: ✔
A41: 28 | B41: 44712 | C41: 5710-050 | D41: Honoraires prof. avocats - DSJ | E41: Renno Vathilakis inc. | F41: Dossier HQ # 1479/1 | G41: 2724 | H41: 994.75 | I41: ✔
A42: 29 | B42: 44712 | C42: 5710-050 | D42: Honoraires prof. avocats - DSJ | E42: Renno Vathilakis inc. | F42: Dossier HQ # 1479/2 | G42: 2725 | H42: 831.5 | I42: ✔
A43: 30 | B43: 44818 | C43: 5710-050 | D43: Honoraires prof. avocats - DSJ | E43: Renno Vathilakis inc. | F43: Dossier HQ # 1479/2 | G43: 2816 | H43: 2508 | I43: ✔
... A72: 59 | B72: 44761 | C72: 5710-500 | D72: Honoraires prof. avocats - RÉS | E72: Therrien Couture Jolicoeur S.E.N.C.R.L. | F72: N/D 9005090-1 Plainte 22/03/23 | G72: 465402 | H72: 53819.7 | I72: ✔
H73: =SUM(H7:H72) -> 228454.16
B75: Écritures de GL (courus, renversement, etc..)
B76: 44767 | C76: 5710-500 | D76: Honoraires prof. avocats - RÉS | F76: N/D 9005090-1 Plainte 22/03/23 | G76: RCT000003778 | H76: -24500
B77: 44652 | C77: 5710-117 | D77: Honoraires prof. avocats - SAP | F77: Services rendus 2022-03 | H77: -7991.5
B78: 44652 | C78: 5710-030 | D78: Honoraires prof. avocats - SEC | F78: du 1er février au 31 mars 2022 | H78: -300
B79: 44652 | C79: 5710-030 | D79: Honoraires prof. avocats - SEC | F79: du 1er février au 31 mars 2022 | H79: -3750

Sheet 21-22
B1: Date de | C1: 44287 | D1: Date au | E1: 44651
B2: Unité de | C2: 010 | D2: Unité à | E2: 900
B3: Compte de | C3: 5710 | D3: Compte à | E3: 5710
B6: DATE_COMPTABLE | C6: NO_COMPTE | D6: DESCRIPTION_COMPTE | E6: NOM_FOURNISSEUR | F6: REFERENCE | G6: NO_DOCUMENT | H6: MONTANT_NET
A7: 1 | B7: 44316 | C7: 5710-030 | D7: Honoraires prof. avocats - SEC | E7: Dominique F. Bourcheix | F7: du 1er au 30 avril 2021 | G7: 7446 | H7: 3503.07 | I7: ✔
A8: 2 | B8: 44377 | C8: 5710-030 | D8: Honoraires prof. avocats - SEC | E8: Dominique F. Bourcheix | F8: du 1er au 17 juin 2021 | G8: 7454 | H8: 1650 | I8: ✔
A9: 3 | B9: 44561 | C9: 5710-030 | D9: Honoraires prof. avocats - SEC | E9: Dominique F. Bourcheix | F9: du 1er sept. au 31 déc. 2021 | G9: 7494 | H9: 10040 | I9: ✔
A10: 4 | B10: 44592 | C10: 5710-030 | D10: Honoraires prof. avocats - SEC | E10: Dominique F. Bourcheix | F10: du 1er au 31 janvier 2022 | G10: 7497 | H10: 4446.32 | I10: ✔
B11: 44592 | C11: 5710-030 | D11: Honoraires prof. avocats - SEC | E11: Dominique F. Bourcheix | F11: du 1er au 31 janvier 2022 | G11: 7497 | H11: 173.68 | I11: ❖
A12: 5 | B12: 44302 | C12: 5710-030 | D12: Honoraires prof. avocats - SEC | E12: Julie Duranceau, avocate et médiatrice | F12: P-110-3473 03 mar au 12 avr 21 | G12: F21-22 | H12: 1100 | I12: ✔
A13: 6 | B13: 44433 | C13: 5710-030 | D13: Honoraires prof. avocats - SEC | E13: Julie Duranceau, avocate et médiatrice | F13: P-110-3477 20 avr au 08 aoû 21 | G13: F21-33 | H13: 2000 | I13: ✔
A14: 7 | B14: 44468 | C14: 5710-030 | D14: Honoraires prof. avocats - SEC | E14: Julie Duranceau, avocate et médiatrice | F14: P-110-3494 19 aoû au 13 sep 21 | G14: F21-35 | H14: 1050 | I14: ✔
A15: 8 | B15: 44530 | C15: 5710-030 | D15: Honoraires prof. avocats - SEC | E15: Julie Duranceau, avocate et médiatrice | F15: P-110-3499 30 sep au 03 dec 21 | G15: F21-39 | H15: 1900 | I15: ✔
A16: 9 | B16: 44616 | C16: 5710-030 | D16: Honoraires prof. avocats - SEC | E16: Julie Duranceau, avocate et médiatrice | F16: P-110-3510 26 nov au 03 fev22 | G16: F22-03 | H16: 1150 | I16: ✔
A17: 10 | B17: 44616 | C17: 5710-030 | D17: Honoraires prof. avocats - SEC | E17: Julie Duranceau, avocate et médiatrice | F17: P-110-3515 31 jan au 18 fev 22 | G17: F22-05 | H17: 1650 | I17: ✔
A18: 11 | B18: 44651 | C18: 5710-030 | D18: Honoraires prof. avocats - SEC | E18: Julie Duranceau, avocate et médiatrice | F18: P-110-3516 11 jan au 11 mar 22 | G18: F22-08 | H18: 1550 | I18: ✔
A19: 12 | B19: 44651 | C19: 5710-030 | D19: Honoraires prof. avocats - SEC | E19: Julie Duranceau, avocate et médiatrice | F19: P-110-3531 06 mar au 21 mar 22 | G19: F22-10 | H19: 1873.2 | I19: ✔
A20: 13 | B20: 44651 | C20: 5710-030 | D20: Honoraires prof. avocats - SEC | E20: Julie Duranceau, avocate et médiatrice | F20: P-110-3518 10 fev au 30 mar 22 | G20: F22-13 | H20: 1315.66 | I20: ✔
A21: 14 | B21: 44651 | C21: 5710-030 | D21: Honoraires prof. avocats - SEC | E21: Julie Duranceau, avocate et médiatrice | F21: P-110-3493 06 jan 22 | G21: F22-14 | H21: 50 | I21: ✔
A22: 15 | B22: 44651 | C22: 5710-030 | D22: Honoraires prof. avocats - SEC | E22: Julie Duranceau, avocate et médiatrice | F22: P-110-3500 06 jan au 28 mar 22 | G22: F22-15 | H22: 1365.66 | I22: ✔
A23: 16 | B23: 44316 | C23: 5710-030 | D23: Honoraires prof. avocats - SEC | E23: Services-Conseils juridiques Mon Avok s.a. | F23: du 01 avril au 05 mai 2021 | G23: 21-05-06 | H23: 1450 | I23: ✔
... A50: 43 | B50: 44561 | C50: 5710-050 | D50: Honoraires prof. avocats - DSJ | E50: Sodavex | F50: Kildair c Régie et TEQ 2021-09 | G50: 2013 | H50: 23820 | I50: ✔
B51: 44561 | C51: 5710-050 | D51: Honoraires prof. avocats - DSJ | E51: Sodavex | F51: Kildair c Régie et TEQ 2021-10 | G51: 2013 | H51: 9630 | I51: ❖
B52: 44561 | C52: 5710-050 | D52: Honoraires prof. avocats - DSJ | E52: Sodavex | F52: Kildair c Régie et TEQ 2021-11 | G52: 2013 | H52: 1830 | I52: ❖
A53: 44 | B53: 44636 | C53: 5710-050 | D53: Honoraires prof. avocats - DSJ | E53: Sodavex | F53: Kildair c Régie et TEQ 2021-12 | G53: 2144 | H53: 2235 | I53: ✔
A54: 45 | B54: 44636 | C54: 5710-050 | D54: Honoraires prof. avocats - DSJ | E54: Sodavex | F54: C.supér. Pétro-Francis 2021-12 | G54: 2145 | H54: 105 | I54: ✔
A55: 46 | B55: 44651 | C55: 5710-050 | D55: Honoraires prof. avocats - DSJ | E55: Sodavex | F55: Kildair c Régie et TEQ 2022-01 | G55: 2229 | H55: 885 | I55: ✔
B56: 44651 | C56: 5710-050 | D56: Honoraires prof. avocats - DSJ | E56: Sodavex | F56: Kildair c Régie et TEQ 2022-02 | G56: 2229 | H56: 6404.84 | I56: ❖
B57: 44651 | C57: 5710-050 | D57: Honoraires prof. avocats - DSJ | E57: Sodavex | F57: Kildair c Régie et TEQ 2022-03 | G57: 2229 | H57: 2807.66 | I57: ❖
A58: 47 | B58: 44651 | C58: 5710-050 | D58: Honoraires prof. avocats - DSJ | E58: Sodavex | F58: C.supér. Pétro-Francis 2022-02 | G58: 2230 | H58: 60 | I58: ✔
B59: 44651 | C59: 5710-050 | D59: Honoraires prof. avocats - DSJ | E59: Sodavex | F59: C.supér. Pétro-Francis 2022-03 | G59: 2230 | H59: 1172.75 | I59: ❖
A60: 48 | B60: 44651 | C60: 5710-050 | D60: Honoraires prof. avocats - DSJ | E60: Sodavex | F60: Kildair c Régie et TEQ 2022-02 | G60: 2231 | H60: 8910 | I60: ✔
B61: 44651 | C61: 5710-050 | D61: Honoraires prof. avocats - DSJ | E61: Sodavex | F61: Kildair c Régie et TEQ 2022-03 | G61: 2231 | H61: 1515 | I61: ❖
A62: 49 | B62: 44377 | C62: 5710-117 | D62: Honoraires prof. avocats - SAP | E62: André G. Lavoie Arbitre Inc. | F62: Dossier grief #2019-01/2020-02 | G62: 1597 | H62: 756 | I62: ✔
A63: 50 | B63: 44347 | C63: 5710-117 | D63: Honoraires prof. avocats - SAP | E63: Dunton Rainville S.E.N.C.R.L. | F63: Services rendus 2021-04 | G63: 383821 | H63: 2250.5 | I63: ✔
A64: 51 | B64: 44377 | C64: 5710-117 | D64: Honoraires prof. avocats - SAP | E64: Dunton Rainville S.E.N.C.R.L. | F64: Services rendus 2021-05 | G64: 385839 | H64: 3936.35 | I64: ✔
A65: 52 | B65: 44408 | C65: 5710-117 | D65: Honoraires prof. avocats - SAP | E65: Dunton Rainville S.E.N.C.R.L. | F65: Services rendus 2021-06 | G65: 387293 | H65: 4531.75 | I65: ✔
A66: 53 | B66: 44469 | C66: 5710-117 | D66: Honoraires prof. avocats - SAP | E66: Dunton Rainville S.E.N.C.R.L. | F66: Services rendus 2021-07 & 08 | G66: 390288 | H66: 122 | I66: ✔
A67: 54 | B67: 44530 | C67: 5710-117 | D67: Honoraires prof. avocats - SAP | E67: Dunton Rainville S.E.N.C.R.L. | F67: Services rendus 2021-10 | G67: 393471 | H67: 2464.6 | I67: ✔
A68: 55 | B68: 44561 | C68: 5710-117 | D68: Honoraires prof. avocats - SAP | E68: Dunton Rainville S.E.N.C.R.L. | F68: Services rendus 2021-11 | G68: 395037 | H68: 541.25 | I68: ✔
A69: 56 | B69: 44347 | C69: 5710-117 | D69: Honoraires prof. avocats - SAP | E69: Monette Barakett Avocats S.E.N.C. | F69: #87357 du 21-03-18 au 21-04-30 | G69: 132076 | H69: 225 | I69: ✔
A70: 57 | B70: 44347 | C70: 5710-117 | D70: Honoraires prof. avocats - SAP | E70: Monette Barakett Avocats S.E.N.C. | F70: #86334 du 21-04-28 au 21-05-27 | G70: 132226 | H70: 825 | I70: ✔
A71: 58 | B71: 44377 | C71: 5710-117 | D71: Honoraires prof. avocats - SAP | E71: Monette Barakett Avocats S.E.N.C. | F71: #86334 du 21-05-31 au 21-06-25 | G71: 132610 | H71: 4502.45 | I71: ✔
A72: 59 | B72: 44408 | C72: 5710-117 | D72: Honoraires prof. avocats - SAP | E72: Monette Barakett Avocats S.E.N.C. | F72: #87357 du 21-05-03 au 21-06-15 | G72: 132865 | H72: 930 | I72: ✔
A73: 60 | B73: 44439 | C73: 5710-117 | D73: Honoraires prof. avocats - SAP | E73: Monette Barakett Avocats S.E.N.C. | F73: #86334 du 21-06-28 au 21-06-30 | G73: 133232 | H73: 450 | I73: ✔
... A79: 66 | B79: 44547 | C79: 5710-125 | D79: Honoraires prof. avocats - SCBA | E79: Casavant Bédard | F79: Interprétation contrat Nexio | G79: 17336 | H79: 1625 | I79: ✔
H80: =SUM(H7:H79) -> 241807.21
B82: Écritures de GL (courus, renversement, etc..)
B83: 44287 | C83: 5710-030 | D83: Honoraires prof. avocats - SEC | F83: P-110-3473 03 mar au 15 mar 21 | H83: -750
B84: 44651 | C84: 5710-030 | D84: Honoraires prof. avocats - SEC | F84: du 1er février au 31 mars 2022 | H84: 300
B85: 44651 | C85: 5710-030 | D85: Honoraires prof. avocats - SEC | F85: du 1er février au 31 mars 2022 | H85: 3750
B86: 44651 | C86: 5710-117 | D86: Honoraires prof. avocats - SAP | F86: Services rendus 2022-03 | H86: 7991.5

Sheet 20-21
B1: Date de | C1: 43922 | D1: Date au | E1: 44286
B2: Unité de | C2: 010 | D2: Unité à | E2: 900
B3: Compte de | C3: 5710 | D3: Compte à | E3: 5710
B6: DATE_COMPTABLE | C6: NO_COMPTE | D6: DESCRIPTION_COMPTE | E6: NOM_FOURNISSEUR | F6: REFERENCE | G6: NO_DOCUMENT | H6: MONTANT_NET
A7: 1 | B7: 44135 | C7: 5710-010 | D7: Honoraires prof. avocats - PRÉ | E7: Sarrazin Plourde s.a | F7: Dossier 0224-0006 - 2020-09 | G7: 04408 | H7: 3801 | I7: ✔
A8: 2 | B8: 44165 | C8: 5710-010 | D8: Honoraires prof. avocats - PRÉ | E8: Sarrazin Plourde s.a | F8: Dossier 0224-0006 - 2020-10 | G8: 04506 | H8: 1230 | I8: ✔
B9: 44165 | C9: 5710-010 | D9: Honoraires prof. avocats - PRÉ | E9: Sarrazin Plourde s.a | F9: Dossier 0224-0006 - 2020-11 | G9: 04506 | H9: 2149.5 | I9: ❖
A10: 3 | B10: 44227 | C10: 5710-010 | D10: Honoraires prof. avocats - PRÉ | E10: Sarrazin Plourde s.a | F10: Dossier 0224-0007 - 2020-12 | G10: 04703 | H10: 1293 | I10: ✔
A11: 4 | B11: 44255 | C11: 5710-010 | D11: Honoraires prof. avocats - PRÉ | E11: Sarrazin Plourde s.a | F11: Dossier 0224-0007 - 2021-01 | G11: 04786 | H11: 2794.5 | I11: ✔
A12: 5 | B12: 44286 | C12: 5710-010 | D12: Honoraires prof. avocats - PRÉ | E12: Sarrazin Plourde s.a | F12: Dossier 0224-0006 - 2021-02 | G12: 04835 | H12: 580.5 | I12: ✔
A13: 6 | B13: 43951 | C13: 5710-030 | D13: Honoraires prof. avocats - SEC | E13: Dominique F. Bourcheix | F13: du 1er au 30 avril 2020 | G13: 7239 | H13: 5700 | I13: ✔
A14: 7 | B14: 43982 | C14: 5710-030 | D14: Honoraires prof. avocats - SEC | E14: Dominique F. Bourcheix | F14: du 1er au 31 mai 2020 | G14: 7334 | H14: 2550 | I14: ✔
A15: 8 | B15: 44012 | C15: 5710-030 | D15: Honoraires prof. avocats - SEC | E15: Dominique F. Bourcheix | F15: du 1er au 30 juin 2020 | G15: 7348 | H15: 5475 | I15: ✔
B16: 44012 | C16: 5710-030 | D16: Honoraires prof. avocats - SEC | E16: Dominique F. Bourcheix | F16: du 1er au 30 juin 2020 | G16: 7348 | H16: 150 | I16: ❖
A17: 9 | B17: 44131 | C17: 5710-030 | D17: Honoraires prof. avocats - SEC | E17: Dominique F. Bourcheix | F17: du 1er au 30 septembre 2020 | G17: 7395 | H17: 10347.03 | I17: ✔
B18: 44131 | C18: 5710-030 | D18: Honoraires prof. avocats - SEC | E18: Dominique F. Bourcheix | F18: du 1er au 30 septembre 2020 | G18: 7395 | H18: 381.97 | I18: ✔
A19: 10 | B19: 44135 | C19: 5710-030 | D19: Honoraires prof. avocats - SEC | E19: Dominique F. Bourcheix | F19: du 1er au 31 octobre 2020 | G19: 7400 | H19: 6293 | I19: ✔
B20: 44135 | C20: 5710-030 | D20: Honoraires prof. avocats - SEC | E20: Dominique F. Bourcheix | F20: du 1er au 31 octobre 2020 | G20: 7400 | H20: 250 | I20: ❖
A21: 11 | B21: 44165 | C21: 5710-030 | D21: Honoraires prof. avocats - SEC | E21: Dominique F. Bourcheix | F21: du 1er au 30 novembre 2020 | G21: 7404 | H21: 2250 | I21: ✔
A22: 12 | B22: 44211 | C22: 5710-030 | D22: Honoraires prof. avocats - SEC | E22: Dominique F. Bourcheix | F22: du 1er au 31 décembre 2020 | G22: 7408 | H22: 3849.96 | I22: ✔
B23: 44211 | C23: 5710-030 | D23: Honoraires prof. avocats - SEC | E23: Dominique F. Bourcheix | F23: du 1er au 31 décembre 2020 | G23: 7408 | H23: 2193 | I23: ❖
A24: 13 | B24: 44227 | C24: 5710-030 | D24: Honoraires prof. avocats - SEC | E24: Dominique F. Bourcheix | F24: du 1er au 31 janvier 2021 | G24: 7428 | H24: 2175 | I24: ✔
A25: 14 | B25: 44255 | C25: 5710-030 | D25: Honoraires prof. avocats - SEC | E25: Dominique F. Bourcheix | F25: du 1er au 28 février 2021 | G25: 7431 | H25: 825 | I25: ✔
A26: 15 | B26: 44286 | C26: 5710-030 | D26: Honoraires prof. avocats - SEC | E26: Dominique F. Bourcheix | F26: du 1er au 31 mars 2021 | G26: 7438 | H26: 2400 | I26: ✔
A27: 16 | B27: 44043 | C27: 5710-030 | D27: Honoraires prof. avocats - SEC | E27: Dominique F. Bourcheix | F27: du 1er au 30 juin 2020 | G27: 7348COR | H27: -1200 | I27: ✔
A28: 17 | B28: 43949 | C28: 5710-030 | D28: Honoraires prof. avocats - SEC | E28: Julie Duranceau, avocate et médiatrice | F28: du 1er au 6 avril 2020 | G28: F20-24 | H28: 975 | I28: ✔
A29: 18 | B29: 43951 | C29: 5710-030 | D29: Honoraires prof. avocats - SEC | E29: Julie Duranceau, avocate et médiatrice | F29: 30 avril 2020 | G29: F20-27 | H29: 675 | I29: ✔
A30: 19 | B30: 43982 | C30: 5710-030 | D30: Honoraires prof. avocats - SEC | E30: Julie Duranceau, avocate et médiatrice | F30: du 1er mai au 04 juin 2020 | G30: F20-35 | H30: 900 | I30: ✔
A31: 20 | B31: 44012 | C31: 5710-030 | D31: Honoraires prof. avocats - SEC | E31: Julie Duranceau, avocate et médiatrice | F31: Journée formation 18 juin 2020 | G31: F20-40 | H31: 1275 | I31: ✔
A32: 21 | B32: 44135 | C32: 5710-030 | D32: Honoraires prof. avocats - SEC | E32: Julie Duranceau, avocate et médiatrice | F32: du 02 au 30 octobre 2020 | G32: F20-47 | H32: 2250 | I32: ✔
A33: 22 | B33: 44162 | C33: 5710-030 | D33: Honoraires prof. avocats - SEC | E33: Julie Duranceau, avocate et médiatrice | F33: P-110-3451 02 oct au 19 nov 20 | G33: F20-49 | H33: 2050 | I33: ✔
A34: 23 | B34: 44162 | C34: 5710-030 | D34: Honoraires prof. avocats - SEC | E34: Julie Duranceau, avocate et médiatrice | F34: P-110-3455 05 nov au 24 nov 20 | G34: F20-50 | H34: 1565.67 | I34: ✔
A35: 24 | B35: 44196 | C35: 5710-030 | D35: Honoraires prof. avocats - SEC | E35: Julie Duranceau, avocate et médiatrice | F35: P-110-3428 03 dec au 17 dec 20 | G35: F20-52 | H35: 2500 | I35: ✔
... A80: 69 | B80: 44227 | C80: 5710-117 | D80: Honoraires prof. avocats - SAP | E80: Monette Barakett Avocats S.E.N.C. | F80: #86221 du 20-05-11 au 21-01-05 | G80: 130809 | H80: 871.36 | I80: ✔
B81: 44227 | C81: 5710-117 | D81: Honoraires prof. avocats - SAP | E81: Monette Barakett Avocats S.E.N.C. | F81: #87380 du 21-01-07 au 21-01-13 | G81: 130809 | H81: 965 | I81: ❖
A82: 70 | B82: 44284 | C82: 5710-117 | D82: Honoraires prof. avocats - SAP | E82: Monette Barakett Avocats S.E.N.C. | F82: #87357 du 21-01-08 au 21-01-19 | G82: 131198 | H82: 425 | I82: ✔
A83: 71 | B83: 44227 | C83: 5710-117 | D83: Honoraires prof. avocats - SAP | E83: Monette Barakett Avocats S.E.N.C. | F83: #86221 du 20-04-01 au 20-04-22 | G83: 128366COR | H83: 2175 | I83: ✔
B84: 44227 | C84: 5710-117 | D84: Honoraires prof. avocats - SAP | E84: Monette Barakett Avocats S.E.N.C. | F84: #86334 du 20-04-10 au 20-04-16 | G84: 128366COR | H84: 1100 | I84: ❖
A85: 72 | B85: 44227 | C85: 5710-117 | D85: Honoraires prof. avocats - SAP | E85: Monette Barakett Avocats S.E.N.C. | F85: #86334 du 20-04-30 au 20-05-08 | G85: 129964COR | H85: 150 | I85: ✔
B86: 44227 | C86: 5710-117 | D86: Honoraires prof. avocats - SAP | E86: Monette Barakett Avocats S.E.N.C. | F86: #86811 du 20-09-08 au 20-09-29 | G86: 129964COR | H86: 275 | I86: ❖
H87: =SUM(H7:H86) -> 231043.52
B89: Écritures de GL (courus, renversement, etc..)
B90: 44286 | C90: 5710-030 | D90: Honoraires prof. avocats - SEC | F90: P-110-3473 03 mar au 15 mar 21 | H90: 750

Sheet 19-20
B1: Date de | C1: 43556 | D1: Date au | E1: 43921
B2: Unité de | C2: 010 | D2: Unité à | E2: 900
B3: Compte de | C3: 5710 | D3: Compte à | E3: 5710
B6: DATE_COMPTABLE | C6: NO_COMPTE | D6: DESCRIPTION_COMPTE | E6: NOM_FOURNISSEUR | F6: REFERENCE | G6: NO_DOCUMENT | H6: MONTANT_NET
A7: 1 | B7: 43830 | C7: 5710-010 | D7: Honoraires prof. avocats - PRÉ | E7: Sarrazin Plourde s.a | F7: HQT - Normes de fiabilité | G7: 3554 | H7: 4573 | I7: ✔
A8: 2 | B8: 43830 | C8: 5710-010 | D8: Honoraires prof. avocats - PRÉ | E8: Sarrazin Plourde s.a | F8: HQP - Normes de fiabilité | G8: 3566 | H8: 3180 | I8: ✔
A9: 3 | B9: 43616 | C9: 5710-030 | D9: Honoraires prof. avocats - SEC | E9: Dominique F. Bourcheix | F9: du 1er au 31 mai 2019 | G9: 7207 | H9: 6208 | I9: ✔
A10: 4 | B10: 43677 | C10: 5710-030 | D10: Honoraires prof. avocats - SEC | E10: Dominique F. Bourcheix | F10: du 1er au 30 juin 2019 | G10: 7210 | H10: 5641 | I10: ✔
A11: 5 | B11: 43732 | C11: 5710-030 | D11: Honoraires prof. avocats - SEC | E11: Dominique F. Bourcheix | F11: du 1er au 31 juillet 2019 | G11: 7211 | H11: 10503 | I11: ✔
A12: 6 | B12: 43738 | C12: 5710-030 | D12: Honoraires prof. avocats - SEC | E12: Dominique F. Bourcheix | F12: du 1er au 30 septembre 2019 | G12: 7214 | H12: 7564 | I12: ✔
A13: 7 | B13: 43769 | C13: 5710-030 | D13: Honoraires prof. avocats - SEC | E13: Dominique F. Bourcheix | F13: du 1er au 31 octobre 2019 | G13: 7217 | H13: 8960.16 | I13: ✔
B14: 43769 | C14: 5710-030 | D14: Honoraires prof. avocats - SEC | E14: Dominique F. Bourcheix | F14: du 1er au 31 octobre 2019 | G14: 7217 | H14: 2413.84 | I14: ❖
A15: 8 | B15: 43799 | C15: 5710-030 | D15: Honoraires prof. avocats - SEC | E15: Dominique F. Bourcheix | F15: du 1er au 30 novembre 2019 | G15: 7222 | H15: 4232 | I15: ✔
A16: 9 | B16: 43830 | C16: 5710-030 | D16: Honoraires prof. avocats - SEC | E16: Dominique F. Bourcheix | F16: du 1er au 31 décembre 2019 | G16: 7224 | H16: 7382 | I16: ✔
A17: 10 | B17: 43861 | C17: 5710-030 | D17: Honoraires prof. avocats - SEC | E17: Dominique F. Bourcheix | F17: du 1er au 31 janvier 2020 | G17: 7225 | H17: 5730 | I17: ✔
A18: 11 | B18: 43907 | C18: 5710-030 | D18: Honoraires prof. avocats - SEC | E18: Dominique F. Bourcheix | F18: du 1er au 29 février 2020 | G18: 7231 | H18: 7284.91 | I18: ✔
A19: 12 | B19: 43921 | C19: 5710-030 | D19: Honoraires prof. avocats - SEC | E19: Dominique F. Bourcheix | F19: du 1er au 31 mars 2020 | G19: 7235 | H19: 2550 | I19: ✔
A20: 13 | B20: 43890 | C20: 5710-030 | D20: Honoraires prof. avocats - SEC | E20: Julie Duranceau, avocate et médiatrice | F20: du 11 au 21 février 2020 | G20: F20-07 | H20: 825 | I20: ✔
A21: 14 | B21: 43921 | C21: 5710-030 | D21: Honoraires prof. avocats - SEC | E21: Julie Duranceau, avocate et médiatrice | F21: P-110-3438 - 24 mars 2020 | G21: F20-18 | H21: 562.5 | I21: ✔
A22: 15 | B22: 43916 | C22: 5710-030 | D22: Honoraires prof. avocats - SEC | E22: Services-Conseils juridiques Mon Avok s.a. | F22: du 18 février au 22 mars 2020 | G22: 20-03-22 | H22: 465.66 | I22: ✔
A23: 16 | B23: 43921 | C23: 5710-050 | D23: Honoraires prof. avocats - DSJ | E23: Sarrazin Plourde s.a | F23: Cour Supérieure - RTA inc. | G23: 3847 | H23: 1230 | I23: ✔
A24: 17 | B24: 43616 | C24: 5710-050 | D24: Honoraires prof. avocats - DSJ | E24: Sodavex | F24: Kildair c Régie et TEQ | G24: 93 | H24: 15360 | I24: ✔
A25: 18 | B25: 43616 | C25: 5710-050 | D25: Honoraires prof. avocats - DSJ | E25: Sodavex | F25: Cour supérieure- Aldus Capital | G25: 96 | H25: 360 | I25: ✔
A26: 19 | B26: 43665 | C26: 5710-050 | D26: Honoraires prof. avocats - DSJ | E26: Sodavex | F26: Kildair c Régie et TEQ | G26: 144 | H26: 7800 | I26: ✔
... A42: 35 | B42: 43921 | C42: 5705-117 | D42: Honoraires prof. administration - SAP | E42: Monette Barakett Avocats S.E.N.C. | F42: Opinion juridique | G42: 128172 | H42: 3727.65 | I42: ✔
H43: =SUM(H7:H42) -> 159430.75
B46: Documents qui s'annulent
B47: 43616 | C47: 5710-050 | D47: Honoraires prof. avocats - DSJ | E47: Sodavex | F47: Cour supérieure- Pétro-Francis | G47: 94 | H47: 65
B48: 43602 | C48: 5710-050 | D48: Honoraires prof. avocats - DSJ | E48: Sodavex | F48: Cour supérieure- Pétro-Francis | G48: 94 | H48: -65

Sheet Contrats
A1: DATE_COMPTABLE | B1: DESCRIPTION_COMPTE | C1: NOM_FOURNISSEUR | D1: REFERENCE | E1: MONTANT_NET
B2: Dossier d'arbitrage-grief | pas de contrat, les parties choisissent un arbitre
A3: 46051 | B3: Honoraires prof. avocats - SAP | C3: Amal Garzouzi | D3: Dossier grief # 2024-01/ 91954 | E3: 525
A4: 45162 | B4: Honoraires prof. avocats - SAP | C4: Amal Garzouzi | D4: Dossier grief # 2022-01/ 89976 | E4: 1087.5
A5: 44377 | B5: Honoraires prof. avocats - SAP | C5: André G. Lavoie Arbitre Inc. | D5: Dossier grief #2019-01/2020-02 | E5: 756
A6: 45338 | B6: Honoraires prof. avocats - SAP | C6: André G. Lavoie Arbitre Inc. | D6: Dossier grief # 2022-02 | E6: 797.5
A7: 46195 | B7: Honoraires prof. avocats - SAP | C7: André G. Lavoie Arbitre Inc. | D7: Dossier grief # 2025-01 | E7: 262.5
A8: 45471 | B8: Honoraires prof. avocats - SAP | C8: Valérie Korozs Arbitre Inc. | D8: Dossier grief #2023-01/2023-02 | E8: 187.5
B9: Cain Lamarre SENCRL | CainLamarre_LM_20260220
A10: 46112 | B10: Honoraires prof. avocats - DSJ | C10: Cain Lamarre SENCRL | D10: Marque Régie essence Québec | E10: 3951.36
A11: 46224 | B11: Honoraires prof. avocats - DSJ | C11: Cain Lamarre SENCRL | D11: Marque Régie essence Québec | E11: 180.06
B12: Casavant Bédard |pas de contrat
A13: 44547 | B13: Honoraires prof. avocats - SCBA | C13: Casavant Bédard | D13: Interprétation contrat Nexio | E13: 1625
B14: Delegatus services juridiques inc.|Delegatus_LM 20250116
A15: 45702 | B15: Honoraires prof. avocats - SEC | C15: Delegatus services juridiques inc. | D15: Charte de la langue française | E15: 570
A16: 45735 | B16: Honoraires prof. avocats - SEC | C16: Delegatus services juridiques inc. | D16: Charte de la langue française | E16: 6000
A17: 45950 | B17: Honoraires prof. avocats - SEC | C17: Delegatus services juridiques inc. | D17: Charte de la langue française | E17: 3150
B18: Médiateur - Dominique F. Bourcheix | Contrat à durée indéterminé signé en 2013, max 450h/par année
A19: 43616 | B19: Honoraires prof. avocats - SEC | C19: Dominique F. Bourcheix | D19: du 1er au 31 mai 2019 | E19: 6208
A20: 43677 | B20: Honoraires prof. avocats - SEC | C20: Dominique F. Bourcheix | D20: du 1er au 30 juin 2019 | E20: 5641
A21: 43732 | B21: Honoraires prof. avocats - SEC | C21: Dominique F. Bourcheix | D21: du 1er au 31 juillet 2019 | E21: 10503
A22: 43738 | B22: Honoraires prof. avocats - SEC | C22: Dominique F. Bourcheix | D22: du 1er au 30 septembre 2019 | E22: 7564
A23: 43769 | B23: Honoraires prof. avocats - SEC | C23: Dominique F. Bourcheix | D23: du 1er au 31 octobre 2019 | E23: 8960.16
A24: 43769 | B24: Honoraires prof. avocats - SEC | C24: Dominique F. Bourcheix | D24: du 1er au 31 octobre 2019 | E24: 2413.84
A25: 43799 | B25: Honoraires prof. avocats - SEC | C25: Dominique F. Bourcheix | D25: du 1er au 30 novembre 2019 | E25: 4232
A26: 43830 | B26: Honoraires prof. avocats - SEC | C26: Dominique F. Bourcheix | D26: du 1er au 31 décembre 2019 | E26: 7382
A27: 43861 | B27: Honoraires prof. avocats - SEC | C27: Dominique F. Bourcheix | D27: du 1er au 31 janvier 2020 | E27: 5730
B28: Médiateur - Dominique F. Bourcheix | Contrat GG-2019-81
A29: 43907 | B29: Honoraires prof. avocats - SEC | C29: Dominique F. Bourcheix | D29: du 1er au 29 février 2020 | E29: 7284.91
A30: 43921 | B30: Honoraires prof. avocats - SEC | C30: Dominique F. Bourcheix | D30: du 1er au 31 mars 2020 | E30: 2550
A31: 43951 | B31: Honoraires prof. avocats - SEC | C31: Dominique F. Bourcheix | D31: du 1er au 30 avril 2020 | E31: 5700
A32: 43982 | B32: Honoraires prof. avocats - SEC | C32: Dominique F. Bourcheix | D32: du 1er au 31 mai 2020 | E32: 2550
A33: 44012 | B33: Honoraires prof. avocats - SEC | C33: Dominique F. Bourcheix | D33: du 1er au 30 juin 2020 | E33: 5475
A34: 44012 | B34: Honoraires prof. avocats - SEC | C34: Dominique F. Bourcheix | D34: du 1er au 30 juin 2020 | E34: 150
A35: 44043 | B35: Honoraires prof. avocats - SEC | C35: Dominique F. Bourcheix | D35: du 1er au 30 juin 2020 | E35: -1200
A36: 44131 | B36: Honoraires prof. avocats - SEC | C36: Dominique F. Bourcheix | D36: du 1er au 30 septembre 2020 | E36: 10347.03
A37: 44131 | B37: Honoraires prof. avocats - SEC | C37: Dominique F. Bourcheix | D37: du 1er au 30 septembre 2020 | E37: 381.97
A38: 44135 | B38: Honoraires prof. avocats - SEC | C38: Dominique F. Bourcheix | D38: du 1er au 31 octobre 2020 | E38: 6293
A39: 44135 | B39: Honoraires prof. avocats - SEC | C39: Dominique F. Bourcheix | D39: du 1er au 31 octobre 2020 | E39: 250
A40: 44165 | B40: Honoraires prof. avocats - SEC | C40: Dominique F. Bourcheix | D40: du 1er au 30 novembre 2020 | E40: 2250
... A52: 44681 | B52: Honoraires prof. avocats - SEC | C52: Dominique F. Bourcheix | D52: du 1er février au 31 mars 2022 | E52: 300
B53: Médiateur - Dominique F. Bourcheix | Contrat GG-2022-149
A54: 44764 | B54: Honoraires prof. avocats - SEC | C54: Dominique F. Bourcheix | D54: Hydro-Québec 2022-05 | E54: 6619
A55: 44764 | B55: Honoraires prof. avocats - SEC | C55: Dominique F. Bourcheix | D55: Hydro Jonquière 2022-05 | E55: 1467.05
A56: 44764 | B56: Honoraires prof. avocats - SEC | C56: Dominique F. Bourcheix | D56: Hydro-Québec 2022-06 | E56: 2325
A57: 44764 | B57: Honoraires prof. avocats - SEC | C57: Dominique F. Bourcheix | D57: Hydro Jonquière 2022-06 | E57: 225
A58: 44881 | B58: Honoraires prof. avocats - SEC | C58: Dominique F. Bourcheix | D58: Hydro-Québec 2022-10 | E58: 4350
A59: 44881 | B59: Honoraires prof. avocats - SEC | C59: Dominique F. Bourcheix | D59: Hydro Joliette 2022-10 | E59: 825
A60: 44985 | B60: Honoraires prof. avocats - SEC | C60: Dominique F. Bourcheix | D60: Hydro-Québec 2023-02 | E60: 1593
A61: 45194 | B61: Honoraires prof. avocats - SEC | C61: Dominique F. Bourcheix | D61: Hydro-Québec 2023-07 | E61: 7200
A62: 45194 | B62: Honoraires prof. avocats - SEC | C62: Dominique F. Bourcheix | D62: Hydro Joliette 2023-07 | E62: 675
A63: 45225 | B63: Honoraires prof. avocats - SEC | C63: Dominique F. Bourcheix | D63: Hydro-Québec 2023-09 & 2023-10 | E63: 3450
A64: 45382 | B64: Honoraires prof. avocats - SEC | C64: Dominique F. Bourcheix | D64: Hydro-Québec 2024-01 à 2024-03 | E64: 3450
A65: 45492 | B65: Honoraires prof. avocats - SEC | C65: Dominique F. Bourcheix | D65: Hydro-Québec 2024-05 à 2024-06 | E65: 1350
... A67: 45735 | B67: Honoraires prof. avocats - SEC | C67: Dominique F. Bourcheix | D67: Hydro-Québec 2025-01 à 2025-03 | E67: 1125
B68: Médiateur - Dominique F. Bourcheix | Contrat GG-2025-218
A69: 45869 | B69: Honoraires prof. avocats - SEC | C69: Dominique F. Bourcheix | D69: 2025-04-01 au 2025-07-10 | E69: 1275
A70: 46173 | B70: Honoraires prof. avocats - SEC | C70: Dominique F. Bourcheix | D70: P-110-3710 26-05-01 @ 26-05-22 | E70: 1575
B71: Dossier Benoit Gratton Plainte au TAT | Pas de lettre mandat ou contrat au dossier
A72: 43585 | B72: Honoraires prof. administration - SAP | C72: Dunton Rainville S.E.N.C.R.L. | D72: Services rendus avril 2019 | E72: 540
A73: 43646 | B73: Honoraires prof. administration - SAP | C73: Dunton Rainville S.E.N.C.R.L. | D73: Services rendus mai 2019 | E73: 182.25
A74: 43769 | B74: Honoraires prof. administration - SAP | C74: Dunton Rainville S.E.N.C.R.L. | D74: Services rendus septembre 2019 | E74: 390
A75: 44286 | B75: Honoraires prof. avocats - SAP | C75: Dunton Rainville S.E.N.C.R.L. | D75: Ajust. taux/hre fact # 362917 | E75: -10
A76: 44286 | B76: Honoraires prof. avocats - SAP | C76: Dunton Rainville S.E.N.C.R.L. | D76: Services rendus 2020-04 | E76: 130
A77: 44286 | B77: Honoraires prof. avocats - SAP | C77: Dunton Rainville S.E.N.C.R.L. | D77: Services rendus 2020-08 | E77: 660
A78: 44286 | B78: Honoraires prof. avocats - SAP | C78: Dunton Rainville S.E.N.C.R.L. | D78: Services rendus 2020-09 & 10 | E78: 15179.48
A79: 44286 | B79: Honoraires prof. avocats - SAP | C79: Dunton Rainville S.E.N.C.R.L. | D79: Services rendus 2020-11 | E79: 723
A80: 44286 | B80: Honoraires prof. avocats - SAP | C80: Dunton Rainville S.E.N.C.R.L. | D80: Services rendus 2021-01 | E80: 1111
A81: 44286 | B81: Honoraires prof. avocats - SAP | C81: Dunton Rainville S.E.N.C.R.L. | D81: Services rendus 2021-02 | E81: 6305.25
A82: 44286 | B82: Honoraires prof. avocats - SAP | C82: Dunton Rainville S.E.N.C.R.L. | D82: Services rendus 2021-03 | E82: 10712.25
A83: 44347 | B83: Honoraires prof. avocats - SAP | C83: Dunton Rainville S.E.N.C.R.L. | D83: Services rendus 2021-04 | E83: 2250.5
... A91: 44773 | B91: Honoraires prof. avocats - SAP | C91: Dunton Rainville S.E.N.C.R.L. | D91: Services rendus 2022-06 | E91: 5173.75
B92: Dunton Rainville |pas de contrat (à la pièce)
A93: 44681 | B93: Honoraires prof. avocats - SCBA | C93: Dunton Rainville S.E.N.C.R.L. | D93: Avis juridique appel d'offres | E93: 1841.2
A94: 44712 | B94: Honoraires prof. avocats - SCBA | C94: Dunton Rainville S.E.N.C.R.L. | D94: Avis juridique contractuel | E94: 690.5
A95: 44804 | B95: Honoraires prof. avocats - SCBA | C95: Dunton Rainville S.E.N.C.R.L. | D95: Avis juridique contractuel | E95: 4368
B96: IMK_LM_20200925_dossier 5628-1_CETAQcRDÉ |DA0323
A97: 44130 | B97: Honoraires prof. avocats - DSJ | C97: IMK s.e.n.c.r.l. / LLP | D97: Cour supérieure CETAC 2020-10 | E97: 3120.61
B98: IMK_LM_20211018_dossier 5920-1_PlainteLDSES |DA0345
A99: 44580 | B99: Honoraires prof. avocats - DSJ | C99: IMK s.e.n.c.r.l. / LLP | D99: Dossier 5920-1 2021-10 & 11 | E99: 5355
B100: IMK_LM_20241017_dossier_5628-2_HQcFlumen |DA0430
A101: 45678 | B101: Honoraires prof. avocats - DSJ | C101: IMK s.e.n.c.r.l. / LLP | D101: HQ c. Régie (Flumen) 2024-11 | E101: 13871.9
B102: IMK_LM_20250130_dossier_5628-3_LDc.PCGetRDÉ | DA0440
A103: 45747 | B103: Honoraires prof. avocats - DSJ | C103: IMK s.e.n.c.r.l. / LLP | D103: Dossier 5628-3 - 2025-02 & 03 | E103: 12666.45
A104: 45854 | B104: Honoraires prof. avocats - DSJ | C104: IMK s.e.n.c.r.l. / LLP | D104: Dossier 5628-3 - 2025-04 & 05 | E104: 5804.55
A105: 45929 | B105: Honoraires prof. avocats - DSJ | C105: IMK s.e.n.c.r.l. / LLP | D105: Dossier 5628-3 - 2025-06 & 07 | E105: 2181.75
A106: 45991 | B106: Honoraires prof. avocats - DSJ | C106: IMK s.e.n.c.r.l. / LLP | D106: Dossier 5628-3 - 2025-08 & 09 | E106: 2449.5
A107: 46112 | B107: Honoraires prof. avocats - DSJ | C107: IMK s.e.n.c.r.l. / LLP | D107: Dossier 5628-3 - 2026-01 & 03 | E107: 1290
B108: IMK_LM_20260120_dossier_5920-2_ROEÉ| DA0452
A109: 45854 | B109: Honoraires prof. avocats - DSJ | C109: IMK s.e.n.c.r.l. / LLP | D109: ROEÉ c. PGQ et HQ et Régie | E109: 931.35
B110: IMK_LM20260120_dossier_5920-5_HQcRDÉ_Végétation| DA0467
A111: 46112 | B111: Honoraires prof. avocats - DSJ | C111: IMK s.e.n.c.r.l. / LLP | D111: Dossier 5920-5 - 2026-01 & 03 | E111: 5603.35
A112: 46173 | B112: Honoraires prof. avocats - DSJ | C112: IMK s.e.n.c.r.l. / LLP | D112: Dossier 5920-5 - 2026-04 | E112: 4110
A113: 46234 | B113: Honoraires prof. avocats - DSJ | C113: IMK s.e.n.c.r.l. / LLP | D113: Dossier 5920-5 - 2026-05 | E113: 4477.5
B114: IMK_LM_20260205_dossier 5920-6_HQcRDÉ_ChargesExploitETC| DA0469
A115: 46112 | B115: Honoraires prof. avocats - DSJ | C115: IMK s.e.n.c.r.l. / LLP | D115: Dossier 5920-6 - 2026-02 & 03 | E115: 1068
A116: 46173 | B116: Honoraires prof. avocats - DSJ | C116: IMK s.e.n.c.r.l. / LLP | D116: Dossier 5920-6 - 2026-04 | E116: 120
B117: Jeansonne-LM_20200924_dossier 1501-02 CETAC c.Regie ❘ DA0320
A118: 44165 | B118: Honoraires prof. avocats - DSJ | C118: Jeansonne Avocats inc. | D118: CETAC c. Régie 2020-09 | E118: 6813.5
A119: 44286 | B119: Honoraires prof. avocats - DSJ | C119: Jeansonne Avocats inc. | D119: CETAC c. Régie 2021-03 | E119: 1260
...

Sheet Feuil2
A2: 0 | B2: 18 | C2: 19
A3: 0 | B3: 19 | C3: 20
A4: 1 | B4: 20 | C4: 21
A5: 2 | B5: 21 | C5: 22
A6: 3 | B6: 22 | C6: 23
A7: 4 | B7: 23 | C7: 24
A8: 5 | B8: 24 | C8: 25
A9: 6 | B9: 25 | C9: 26
A10: 7 | B10: 26 | C10: 27
